BEGIN:VCALENDAR
VERSION:2.0
PRODID:-//Crosby Scholars Rowan - ECPv6.15.13.1//NONSGML v1.0//EN
CALSCALE:GREGORIAN
METHOD:PUBLISH
X-WR-CALNAME:Crosby Scholars Rowan
X-ORIGINAL-URL:https://www.crosbyscholarsrowan.org
X-WR-CALDESC:Events for Crosby Scholars Rowan
REFRESH-INTERVAL;VALUE=DURATION:PT1H
X-Robots-Tag:noindex
X-PUBLISHED-TTL:PT1H
BEGIN:VTIMEZONE
TZID:America/New_York
BEGIN:DAYLIGHT
TZOFFSETFROM:-0500
TZOFFSETTO:-0400
TZNAME:EDT
DTSTART:20240310T070000
END:DAYLIGHT
BEGIN:STANDARD
TZOFFSETFROM:-0400
TZOFFSETTO:-0500
TZNAME:EST
DTSTART:20241103T060000
END:STANDARD
BEGIN:DAYLIGHT
TZOFFSETFROM:-0500
TZOFFSETTO:-0400
TZNAME:EDT
DTSTART:20250309T070000
END:DAYLIGHT
BEGIN:STANDARD
TZOFFSETFROM:-0400
TZOFFSETTO:-0500
TZNAME:EST
DTSTART:20251102T060000
END:STANDARD
BEGIN:DAYLIGHT
TZOFFSETFROM:-0500
TZOFFSETTO:-0400
TZNAME:EDT
DTSTART:20260308T070000
END:DAYLIGHT
BEGIN:STANDARD
TZOFFSETFROM:-0400
TZOFFSETTO:-0500
TZNAME:EST
DTSTART:20261101T060000
END:STANDARD
END:VTIMEZONE
BEGIN:VEVENT
DTSTART;TZID=America/New_York:20250325T180000
DTEND;TZID=America/New_York:20250325T200000
DTSTAMP:20260420T142147
CREATED:20250226T150118Z
LAST-MODIFIED:20250226T150517Z
UID:10001635-1742925600-1742932800@www.crosbyscholarsrowan.org
SUMMARY:Rising Senior Orientation #1
DESCRIPTION:ALL rising Seniors must attend the Class of 2026 Senior Orientation! The in-person sessions will be hosted at Wallace Educational Forum from 6 – 8pm. Seniors who attend will receive their Senior Planner\, Class of 2026 t-shirt\, and pizza. Choose the date that works best for you and register to attend ONE session: \nCLICK HERE to Register! \nSession #1 – Tuesday\, March 25th from 6 – 8pm \nSession #2 – Thursday\, April 10th from 6 – 8pm
URL:https://www.crosbyscholarsrowan.org/event/rising-senior-orientation-2025/
LOCATION:Wallace Educational Forum\, 500 N Main Street\, Salisbury\, NC\, 28144\, United States
ORGANIZER;CN="Jessica Vess":MAILTO:jvess@crosbyscholarsrowan.org
END:VEVENT
BEGIN:VEVENT
DTSTART;TZID=America/New_York:20250410T180000
DTEND;TZID=America/New_York:20250410T200000
DTSTAMP:20260420T142148
CREATED:20250226T150308Z
LAST-MODIFIED:20250226T150541Z
UID:10001636-1744308000-1744315200@www.crosbyscholarsrowan.org
SUMMARY:Rising Senior Orientation #2
DESCRIPTION:ALL rising Seniors must attend the Class of 2026 Senior Orientation! The in-person sessions will be hosted at Wallace Educational Forum from 6 – 8pm. Seniors who attend will receive their Senior Planner\, Class of 2026 t-shirt\, and pizza. Choose the date that works best for you and register to attend ONE session: \nCLICK HERE to Register! \nSession #1 – Tuesday\, March 25th from 6 – 8pm \nSession #2 – Thursday\, April 10th from 6 – 8pm
URL:https://www.crosbyscholarsrowan.org/event/rising-senior-orientation-2-2025/
LOCATION:Wallace Educational Forum\, 500 N Main Street\, Salisbury\, NC\, 28144\, United States
ORGANIZER;CN="Jessica Vess":MAILTO:jvess@crosbyscholarsrowan.org
END:VEVENT
BEGIN:VEVENT
DTSTART;TZID=America/New_York:20250504T150000
DTEND;TZID=America/New_York:20250504T170000
DTSTAMP:20260420T142148
CREATED:20250226T145911Z
LAST-MODIFIED:20250226T150031Z
UID:10001634-1746370800-1746378000@www.crosbyscholarsrowan.org
SUMMARY:Class of 2025 Senior Celebration
DESCRIPTION:Join us in celebrating the Class of 2025 at our Senior Celebration on Sunday\, May 4th from 3 – 5pm at the F&M Trolley Barn. Graduation cords and Crosby Scholarships will be awarded during the program. Students are encouraged to invite up to two guests and to RSVP by Friday\, April 25th. Event attire is dressy casual and light refreshments will be provided. Congratulations to the Class of 2025\, we cannot wait to celebrate with you!
URL:https://www.crosbyscholarsrowan.org/event/class-of-2025-senior-celebration/
LOCATION:F& M Trolley Barn\, 165 E. Liberty Street\, Salisbury\, NC\, 28144
ORGANIZER;CN="Jessica Vess":MAILTO:jvess@crosbyscholarsrowan.org
END:VEVENT
BEGIN:VEVENT
DTSTART;TZID=America/New_York:20251018T100000
DTEND;TZID=America/New_York:20251018T120000
DTSTAMP:20260420T142148
CREATED:20250801T180744Z
LAST-MODIFIED:20250801T181036Z
UID:10001638-1760781600-1760788800@www.crosbyscholarsrowan.org
SUMMARY:Crosby Scholar Academy #1
DESCRIPTION:Crosby Scholars will host three Saturday in-person Academies at Rowan-Cabarrus Community College this fall. Academy topics will be grade-level specific for college and career readiness. Students only need to attend one of these events. Please sign up for the one that best suits your schedule. \nCheck-in is at 9:30AM to 9:50AM. Students must stay for the entire Academy and submit an attendance sheet in order to receive credit for this program expectation. The event will conclude at 12:00 pm. Students MUST be picked up by 12:10PM so staff can reset the facility for Rowan-Cabarrus Community College. \n\nWhere:  Rowan-Cabarrus Community College : 1333 Jake Alexander Blvd S\, Building N106\, Salisbury\, NC 28146\nWhen: Check-In  9:30AM to 9:50AM \, Sessions begin at 10:00AM and end at 12:00 PM\n\nSpots are limited\, so don’t wait! Use the link to register today!
URL:https://www.crosbyscholarsrowan.org/event/crosby-scholar-academy-1/
LOCATION:Rowan-Cabarrus Community College\, 1333 Jake Alexander Blvd S\, Salisbury\, NC\, 28146\, United States
CATEGORIES:Academy
END:VEVENT
END:VCALENDAR