BEGIN:VCALENDAR
VERSION:2.0
PRODID:-//Crosby Scholars Rowan - ECPv6.15.13.1//NONSGML v1.0//EN
CALSCALE:GREGORIAN
METHOD:PUBLISH
X-ORIGINAL-URL:https://www.crosbyscholarsrowan.org
X-WR-CALDESC:Events for Crosby Scholars Rowan
REFRESH-INTERVAL;VALUE=DURATION:PT1H
X-Robots-Tag:noindex
X-PUBLISHED-TTL:PT1H
BEGIN:VTIMEZONE
TZID:America/New_York
BEGIN:DAYLIGHT
TZOFFSETFROM:-0500
TZOFFSETTO:-0400
TZNAME:EDT
DTSTART:20230312T070000
END:DAYLIGHT
BEGIN:STANDARD
TZOFFSETFROM:-0400
TZOFFSETTO:-0500
TZNAME:EST
DTSTART:20231105T060000
END:STANDARD
BEGIN:DAYLIGHT
TZOFFSETFROM:-0500
TZOFFSETTO:-0400
TZNAME:EDT
DTSTART:20240310T070000
END:DAYLIGHT
BEGIN:STANDARD
TZOFFSETFROM:-0400
TZOFFSETTO:-0500
TZNAME:EST
DTSTART:20241103T060000
END:STANDARD
BEGIN:DAYLIGHT
TZOFFSETFROM:-0500
TZOFFSETTO:-0400
TZNAME:EDT
DTSTART:20250309T070000
END:DAYLIGHT
BEGIN:STANDARD
TZOFFSETFROM:-0400
TZOFFSETTO:-0500
TZNAME:EST
DTSTART:20251102T060000
END:STANDARD
BEGIN:DAYLIGHT
TZOFFSETFROM:-0500
TZOFFSETTO:-0400
TZNAME:EDT
DTSTART:20260308T070000
END:DAYLIGHT
BEGIN:STANDARD
TZOFFSETFROM:-0400
TZOFFSETTO:-0500
TZNAME:EST
DTSTART:20261101T060000
END:STANDARD
END:VTIMEZONE
BEGIN:VEVENT
DTSTART;TZID=America/New_York:20240411T180000
DTEND;TZID=America/New_York:20240411T200000
DTSTAMP:20260421T204259
CREATED:20240410T170451Z
LAST-MODIFIED:20240410T170643Z
UID:10001623-1712858400-1712865600@www.crosbyscholarsrowan.org
SUMMARY:Rising Senior Orientation #1
DESCRIPTION:ALL rising Seniors must attend the Class of 2025 Senior Orientation! The in-person sessions will be hosted at Wallace Educational Forum from 6 – 8pm. Seniors who attend will receive their Senior Planner\, Class of 2025 t-shirt\, and pizza. Choose the date that works best for you and register to attend ONE session: \nSession #1 – Thursday\, April 11th from 6 – 8pm \nSession #2 – Tuesday\, April 23rd from 6 – 8pm
URL:https://www.crosbyscholarsrowan.org/event/rising-senior-orientation/
LOCATION:Wallace Educational Forum\, 500 N Main Street\, Salisbury\, NC\, 28144\, United States
ORGANIZER;CN="Jessica Vess":MAILTO:jvess@crosbyscholarsrowan.org
END:VEVENT
BEGIN:VEVENT
DTSTART;TZID=America/New_York:20240423T180000
DTEND;TZID=America/New_York:20240423T200000
DTSTAMP:20260421T204259
CREATED:20240410T170607Z
LAST-MODIFIED:20240410T170607Z
UID:10001624-1713895200-1713902400@www.crosbyscholarsrowan.org
SUMMARY:Rising Senior Orientation #2
DESCRIPTION:ALL rising Seniors must attend the Class of 2025 Senior Orientation! The in-person sessions will be hosted at Wallace Educational Forum from 6 – 8pm. Seniors who attend will receive their Senior Planner\, Class of 2025 t-shirt\, and pizza. Choose the date that works best for you and register to attend ONE session: \nSession #1 – Thursday\, April 11th from 6 – 8pm \nSession #2 – Tuesday\, April 23rd from 6 – 8pm
URL:https://www.crosbyscholarsrowan.org/event/rising-senior-orientation-2/
LOCATION:Wallace Educational Forum\, 500 N Main Street\, Salisbury\, NC\, 28144\, United States
ORGANIZER;CN="Jessica Vess":MAILTO:jvess@crosbyscholarsrowan.org
END:VEVENT
BEGIN:VEVENT
DTSTART;TZID=America/New_York:20240505T150000
DTEND;TZID=America/New_York:20240505T170000
DTSTAMP:20260421T204259
CREATED:20240410T170059Z
LAST-MODIFIED:20240410T170059Z
UID:10001622-1714921200-1714928400@www.crosbyscholarsrowan.org
SUMMARY:Class of 2024 Senior Celebration
DESCRIPTION:Join us in celebrating the Class of 2024 at our Senior Celebration on Sunday\, May 5th from 3 – 5pm at the F&M Trolley Barn. Graduation cords and Crosby Scholarships will be awarded during the program. Students are encouraged to invite up to two guests and to RSVP by Friday\, April 26th. Event attire is dressy casual and light refreshments will be provided. Congratulations to the Class of 2024\, we cannot wait to celebrate with you!
URL:https://www.crosbyscholarsrowan.org/event/class-of-2024-senior-celebration/
LOCATION:F& M Trolley Barn\, 165 E. Liberty Street\, Salisbury\, NC\, 28144
ORGANIZER;CN="Jessica Vess":MAILTO:jvess@crosbyscholarsrowan.org
END:VEVENT
BEGIN:VEVENT
DTSTART;TZID=America/New_York:20240624T090000
DTEND;TZID=America/New_York:20240628T123000
DTSTAMP:20260421T204259
CREATED:20240610T185433Z
LAST-MODIFIED:20240617T175730Z
UID:10001625-1719219600-1719577800@www.crosbyscholarsrowan.org
SUMMARY:BrickEd Summer STEAM Camp
DESCRIPTION:June 24 – 28  |  9am – 12:30pm  |  BrickEd & More\, Salisbury\nMiddle School: Grades 6- 8\nCrosby Scholars will enjoy a mixture of robotics\, engineering design\, aeronautics\, & more! \nSpace is Limited  |  Register your student HERE
URL:https://www.crosbyscholarsrowan.org/event/bricked-summer-steam-camp/
LOCATION:BrickEd & More NC\, 1406-B W. Innes Street\, Salisbury\, NC\, 28144\, United States
ORGANIZER;CN="Hanson Saryee":MAILTO:hsaryee@crosbyscholarsrowan.org
END:VEVENT
BEGIN:VEVENT
DTSTART;TZID=America/New_York:20240709T090000
DTEND;TZID=America/New_York:20240709T130000
DTSTAMP:20260421T204259
CREATED:20240610T190138Z
LAST-MODIFIED:20240617T175826Z
UID:10001626-1720515600-1720530000@www.crosbyscholarsrowan.org
SUMMARY:Try It Tuesdays
DESCRIPTION:Tuesday\, July 9th\, 16th\, 23rd\, & 30th  |  9am – 1pm  |  Brenner Crossing\nFor: 6th – 9th graders who live in the West End district of the City of Salisbury\nCrosby Scholars will enjoy Tuesdays filled with Career Exploration in technology\, culinary\, business finance\, communications\, & more! \nSpace is Limited  |  Register your student HERE
URL:https://www.crosbyscholarsrowan.org/event/try-it-tuesdays/
LOCATION:Brenner Crossing Community Center\, 610 Roy Leazer Ave\, Salisbury\, NC\, 28144\, United States
ORGANIZER;CN="Hanson Saryee":MAILTO:hsaryee@crosbyscholarsrowan.org
END:VEVENT
BEGIN:VEVENT
DTSTART;TZID=America/New_York:20240716T090000
DTEND;TZID=America/New_York:20240716T130000
DTSTAMP:20260421T204259
CREATED:20240610T191322Z
LAST-MODIFIED:20240617T175845Z
UID:10001627-1721120400-1721134800@www.crosbyscholarsrowan.org
SUMMARY:Try It Tuesdays
DESCRIPTION:Tuesday\, July 9th\, 16th\, 23rd\, & 30th  |  9am – 1pm  |  Brenner Crossing\nFor: 6th – 9th graders who live in the West End district of the City of Salisbury\nCrosby Scholars will enjoy Tuesdays filled with Career Exploration in technology\, culinary\, business finance\, communications\, & more! \nSpace is Limited  |  Register your student HERE
URL:https://www.crosbyscholarsrowan.org/event/try-it-tuesdays-2/
LOCATION:Brenner Crossing Community Center\, 610 Roy Leazer Ave\, Salisbury\, NC\, 28144\, United States
ORGANIZER;CN="Hanson Saryee":MAILTO:hsaryee@crosbyscholarsrowan.org
END:VEVENT
BEGIN:VEVENT
DTSTART;TZID=America/New_York:20240723T090000
DTEND;TZID=America/New_York:20240723T130000
DTSTAMP:20260421T204259
CREATED:20240610T191410Z
LAST-MODIFIED:20240617T175902Z
UID:10001628-1721725200-1721739600@www.crosbyscholarsrowan.org
SUMMARY:Try It Tuesdays
DESCRIPTION:Tuesday\, July 9th\, 16th\, 23rd\, & 30th  |  9am – 1pm  |  Brenner Crossing\nFor: 6th – 9th graders who live in the West End district of the City of Salisbury\nCrosby Scholars will enjoy Tuesdays filled with Career Exploration in technology\, culinary\, business finance\, communications\, & more! \nSpace is Limited  |  Register your student HERE
URL:https://www.crosbyscholarsrowan.org/event/try-it-tuesdays-3/
LOCATION:Brenner Crossing Community Center\, 610 Roy Leazer Ave\, Salisbury\, NC\, 28144\, United States
ORGANIZER;CN="Hanson Saryee":MAILTO:hsaryee@crosbyscholarsrowan.org
END:VEVENT
BEGIN:VEVENT
DTSTART;TZID=America/New_York:20240730T090000
DTEND;TZID=America/New_York:20240730T130000
DTSTAMP:20260421T204259
CREATED:20240610T191439Z
LAST-MODIFIED:20240617T175924Z
UID:10001629-1722330000-1722344400@www.crosbyscholarsrowan.org
SUMMARY:Try It Tuesdays
DESCRIPTION:Tuesday\, July 9th\, 16th\, 23rd\, & 30th  |  9am – 1pm  |  Brenner Crossing\nFor: 6th – 9th graders who live in the West End district of the City of Salisbury\nCrosby Scholars will enjoy Tuesdays filled with Career Exploration in technology\, culinary\, business finance\, communications\, & more! \nSpace is Limited  |  Register your student HERE
URL:https://www.crosbyscholarsrowan.org/event/try-it-tuesdays-4/
LOCATION:Brenner Crossing Community Center\, 610 Roy Leazer Ave\, Salisbury\, NC\, 28144\, United States
ORGANIZER;CN="Hanson Saryee":MAILTO:hsaryee@crosbyscholarsrowan.org
END:VEVENT
BEGIN:VEVENT
DTSTART;TZID=America/New_York:20240921T170000
DTEND;TZID=America/New_York:20240921T200000
DTSTAMP:20260421T204259
CREATED:20240827T195411Z
LAST-MODIFIED:20240827T195954Z
UID:10001633-1726938000-1726948800@www.crosbyscholarsrowan.org
SUMMARY:Great Tailgate
DESCRIPTION:Crosby Scholars is hosting a GREAT TAILGATE on Saturday\, September 21\, 2024 from 5 – 8pm at the F&M Trolley Barn\, to raise funds for Last Dollar Grants for our graduates’ unmet financial need toward college. We hope that you will join us for a fun and casual evening of food\, football\, and friends all for a worthy cause – making the college dreams of Rowan County students a reality.\n\nTickets are available at https://www.crosbyscholarsrowan.org/great-tailgate/
URL:https://www.crosbyscholarsrowan.org/event/great-tailgate-2024/
LOCATION:F& M Trolley Barn\, 165 E. Liberty Street\, Salisbury\, NC\, 28144
ORGANIZER;CN="Jessica Vess":MAILTO:jvess@crosbyscholarsrowan.org
END:VEVENT
BEGIN:VEVENT
DTSTART;TZID=America/New_York:20241005T090000
DTEND;TZID=America/New_York:20241005T120000
DTSTAMP:20260421T204259
CREATED:20240715T172626Z
LAST-MODIFIED:20240930T142731Z
UID:10001630-1728118800-1728129600@www.crosbyscholarsrowan.org
SUMMARY:Academy #1
DESCRIPTION:Crosby Scholars will host three Saturday in-person Academies at RCCC this fall. Academy topics will be grade level specific for college and career readiness. Students must register for the academy they choose to attend as space is limited. \nSelect your grade level to register below: \nMiddle School Academy Registration \nHigh School Academy Registration \nCheck-in begins at 9 am. Students must stay for the entire Academy and submit an attendance sheet in order to receive credit for this program requirement. The event will conclude at 12:00 pm. \nWhere? RCCC: 1333 Jake Alexander Blvd S\, Building N106\, Salisbury\, NC 28146\nWhen? October 5th from 9am-12pm
URL:https://www.crosbyscholarsrowan.org/event/academy1/
LOCATION:Rowan-Cabarrus Community College\, 1333 Jake Alexander Blvd S\, Salisbury\, NC\, 28146\, United States
ORGANIZER;CN="Jessica Vess":MAILTO:jvess@crosbyscholarsrowan.org
END:VEVENT
BEGIN:VEVENT
DTSTART;TZID=America/New_York:20241116T090000
DTEND;TZID=America/New_York:20241116T120000
DTSTAMP:20260421T204259
CREATED:20240715T172954Z
LAST-MODIFIED:20240930T143025Z
UID:10001631-1731747600-1731758400@www.crosbyscholarsrowan.org
SUMMARY:Academy #2
DESCRIPTION:Crosby Scholars will host three Saturday in-person Academies at RCCC this fall. Academy topics will be grade level specific for college and career readiness. Students must register for the academy they choose to attend as space is limited. \nSelect your grade level to register below: \nMiddle School Academy Registration \nHigh School Academy Registration \nCheck-in begins at 9 am. Students must stay for the entire Academy and submit an attendance sheet in order to receive credit for this program requirement. The event will conclude at 12:00 pm. \nWhere? RCCC: 1333 Jake Alexander Blvd S\, Building N106\, Salisbury\, NC 28146\nWhen? November 16th from 9am-12pm
URL:https://www.crosbyscholarsrowan.org/event/academy2/
LOCATION:Rowan-Cabarrus Community College\, 1333 Jake Alexander Blvd S\, Salisbury\, NC\, 28146\, United States
ORGANIZER;CN="Jessica Vess":MAILTO:jvess@crosbyscholarsrowan.org
END:VEVENT
BEGIN:VEVENT
DTSTART;TZID=America/New_York:20241207T090000
DTEND;TZID=America/New_York:20241207T120000
DTSTAMP:20260421T204259
CREATED:20240715T173111Z
LAST-MODIFIED:20240930T143135Z
UID:10001632-1733562000-1733572800@www.crosbyscholarsrowan.org
SUMMARY:Academy #3
DESCRIPTION:Crosby Scholars will host three Saturday in-person Academies at RCCC this fall. Academy topics will be grade level specific for college and career readiness. Students must register for the academy they choose to attend as space is limited. \nSelect your grade level to register below: \nMiddle School Academy Registration \nHigh School Academy Registration \nCheck-in begins at 9 am. Students must stay for the entire Academy and submit an attendance sheet in order to receive credit for this program requirement. The event will conclude at 12:00 pm. \nWhere? RCCC: 1333 Jake Alexander Blvd S\, Building N106\, Salisbury\, NC 28146\nWhen? December 7th from 9am-12pm
URL:https://www.crosbyscholarsrowan.org/event/academy3/
LOCATION:Rowan-Cabarrus Community College\, 1333 Jake Alexander Blvd S\, Salisbury\, NC\, 28146\, United States
ORGANIZER;CN="Jessica Vess":MAILTO:jvess@crosbyscholarsrowan.org
END:VEVENT
BEGIN:VEVENT
DTSTART;TZID=America/New_York:20250325T180000
DTEND;TZID=America/New_York:20250325T200000
DTSTAMP:20260421T204259
CREATED:20250226T150118Z
LAST-MODIFIED:20250226T150517Z
UID:10001635-1742925600-1742932800@www.crosbyscholarsrowan.org
SUMMARY:Rising Senior Orientation #1
DESCRIPTION:ALL rising Seniors must attend the Class of 2026 Senior Orientation! The in-person sessions will be hosted at Wallace Educational Forum from 6 – 8pm. Seniors who attend will receive their Senior Planner\, Class of 2026 t-shirt\, and pizza. Choose the date that works best for you and register to attend ONE session: \nCLICK HERE to Register! \nSession #1 – Tuesday\, March 25th from 6 – 8pm \nSession #2 – Thursday\, April 10th from 6 – 8pm
URL:https://www.crosbyscholarsrowan.org/event/rising-senior-orientation-2025/
LOCATION:Wallace Educational Forum\, 500 N Main Street\, Salisbury\, NC\, 28144\, United States
ORGANIZER;CN="Jessica Vess":MAILTO:jvess@crosbyscholarsrowan.org
END:VEVENT
BEGIN:VEVENT
DTSTART;TZID=America/New_York:20250410T180000
DTEND;TZID=America/New_York:20250410T200000
DTSTAMP:20260421T204259
CREATED:20250226T150308Z
LAST-MODIFIED:20250226T150541Z
UID:10001636-1744308000-1744315200@www.crosbyscholarsrowan.org
SUMMARY:Rising Senior Orientation #2
DESCRIPTION:ALL rising Seniors must attend the Class of 2026 Senior Orientation! The in-person sessions will be hosted at Wallace Educational Forum from 6 – 8pm. Seniors who attend will receive their Senior Planner\, Class of 2026 t-shirt\, and pizza. Choose the date that works best for you and register to attend ONE session: \nCLICK HERE to Register! \nSession #1 – Tuesday\, March 25th from 6 – 8pm \nSession #2 – Thursday\, April 10th from 6 – 8pm
URL:https://www.crosbyscholarsrowan.org/event/rising-senior-orientation-2-2025/
LOCATION:Wallace Educational Forum\, 500 N Main Street\, Salisbury\, NC\, 28144\, United States
ORGANIZER;CN="Jessica Vess":MAILTO:jvess@crosbyscholarsrowan.org
END:VEVENT
BEGIN:VEVENT
DTSTART;TZID=America/New_York:20250504T150000
DTEND;TZID=America/New_York:20250504T170000
DTSTAMP:20260421T204259
CREATED:20250226T145911Z
LAST-MODIFIED:20250226T150031Z
UID:10001634-1746370800-1746378000@www.crosbyscholarsrowan.org
SUMMARY:Class of 2025 Senior Celebration
DESCRIPTION:Join us in celebrating the Class of 2025 at our Senior Celebration on Sunday\, May 4th from 3 – 5pm at the F&M Trolley Barn. Graduation cords and Crosby Scholarships will be awarded during the program. Students are encouraged to invite up to two guests and to RSVP by Friday\, April 25th. Event attire is dressy casual and light refreshments will be provided. Congratulations to the Class of 2025\, we cannot wait to celebrate with you!
URL:https://www.crosbyscholarsrowan.org/event/class-of-2025-senior-celebration/
LOCATION:F& M Trolley Barn\, 165 E. Liberty Street\, Salisbury\, NC\, 28144
ORGANIZER;CN="Jessica Vess":MAILTO:jvess@crosbyscholarsrowan.org
END:VEVENT
BEGIN:VEVENT
DTSTART;TZID=America/New_York:20251018T100000
DTEND;TZID=America/New_York:20251018T120000
DTSTAMP:20260421T204259
CREATED:20250801T180744Z
LAST-MODIFIED:20250801T181036Z
UID:10001638-1760781600-1760788800@www.crosbyscholarsrowan.org
SUMMARY:Crosby Scholar Academy #1
DESCRIPTION:Crosby Scholars will host three Saturday in-person Academies at Rowan-Cabarrus Community College this fall. Academy topics will be grade-level specific for college and career readiness. Students only need to attend one of these events. Please sign up for the one that best suits your schedule. \nCheck-in is at 9:30AM to 9:50AM. Students must stay for the entire Academy and submit an attendance sheet in order to receive credit for this program expectation. The event will conclude at 12:00 pm. Students MUST be picked up by 12:10PM so staff can reset the facility for Rowan-Cabarrus Community College. \n\nWhere:  Rowan-Cabarrus Community College : 1333 Jake Alexander Blvd S\, Building N106\, Salisbury\, NC 28146\nWhen: Check-In  9:30AM to 9:50AM \, Sessions begin at 10:00AM and end at 12:00 PM\n\nSpots are limited\, so don’t wait! Use the link to register today!
URL:https://www.crosbyscholarsrowan.org/event/crosby-scholar-academy-1/
LOCATION:Rowan-Cabarrus Community College\, 1333 Jake Alexander Blvd S\, Salisbury\, NC\, 28146\, United States
CATEGORIES:Academy
END:VEVENT
END:VCALENDAR