BEGIN:VCALENDAR
VERSION:2.0
PRODID:-//Crosby Scholars Rowan - ECPv6.15.13.1//NONSGML v1.0//EN
CALSCALE:GREGORIAN
METHOD:PUBLISH
X-WR-CALNAME:Crosby Scholars Rowan
X-ORIGINAL-URL:https://www.crosbyscholarsrowan.org
X-WR-CALDESC:Events for Crosby Scholars Rowan
REFRESH-INTERVAL;VALUE=DURATION:PT1H
X-Robots-Tag:noindex
X-PUBLISHED-TTL:PT1H
BEGIN:VTIMEZONE
TZID:America/New_York
BEGIN:DAYLIGHT
TZOFFSETFROM:-0500
TZOFFSETTO:-0400
TZNAME:EDT
DTSTART:20190310T070000
END:DAYLIGHT
BEGIN:STANDARD
TZOFFSETFROM:-0400
TZOFFSETTO:-0500
TZNAME:EST
DTSTART:20191103T060000
END:STANDARD
BEGIN:DAYLIGHT
TZOFFSETFROM:-0500
TZOFFSETTO:-0400
TZNAME:EDT
DTSTART:20200308T070000
END:DAYLIGHT
BEGIN:STANDARD
TZOFFSETFROM:-0400
TZOFFSETTO:-0500
TZNAME:EST
DTSTART:20201101T060000
END:STANDARD
BEGIN:DAYLIGHT
TZOFFSETFROM:-0500
TZOFFSETTO:-0400
TZNAME:EDT
DTSTART:20210314T070000
END:DAYLIGHT
BEGIN:STANDARD
TZOFFSETFROM:-0400
TZOFFSETTO:-0500
TZNAME:EST
DTSTART:20211107T060000
END:STANDARD
BEGIN:DAYLIGHT
TZOFFSETFROM:-0500
TZOFFSETTO:-0400
TZNAME:EDT
DTSTART:20220313T070000
END:DAYLIGHT
BEGIN:STANDARD
TZOFFSETFROM:-0400
TZOFFSETTO:-0500
TZNAME:EST
DTSTART:20221106T060000
END:STANDARD
END:VTIMEZONE
BEGIN:VEVENT
DTSTART;TZID=America/New_York:20210913T180000
DTEND;TZID=America/New_York:20210913T200000
DTSTAMP:20260421T010335
CREATED:20211007T201219Z
LAST-MODIFIED:20211007T201219Z
UID:10001586-1631556000-1631563200@www.crosbyscholarsrowan.org
SUMMARY:Middle School Crosby Information Night! (NRMS & SEMS)
DESCRIPTION:Curious about what Crosby Scholars is? Come find out at our virtual information session through Zoom! \nNRMS Session: 6pm – 7pm \nSEMS Session: 7pm – 8pm \nCome get your answers! \n\nWhat is Crosby Scholars?\nCan anyone join?\nDoes it cost?\nHow can I join Now?\nHow does this help my child?\n\nZoom Link: https://us02web.zoom.us/j/86843514199?pwd=dmo5cWdzK2RPTndtTjVFbGtYaUk1Zz09 \n\nMeeting ID: 868 4351 4199\nPasscode: crosby
URL:https://www.crosbyscholarsrowan.org/event/middle-school-crosby-information-night-nrms-sems/
END:VEVENT
BEGIN:VEVENT
DTSTART;TZID=America/New_York:20210913T173000
DTEND;TZID=America/New_York:20210913T183000
DTSTAMP:20260421T010335
CREATED:20210820T200603Z
LAST-MODIFIED:20210823T203817Z
UID:10001575-1631554200-1631557800@www.crosbyscholarsrowan.org
SUMMARY:Essay Lab Academy
DESCRIPTION:Crosby Scholars will host an Essay Lab Academy on Monday\, Sept. 13th from 5:30-6:30pm in our Crosby Scholars Office (225 N. Main St. Suite 102 Salisbury\, NC 28144). \nSeniors are required to provide a working draft of their personal statement or admission essay from the Common App list. Dr. Jenny Billings will provide tips and strategies\, revision/brainstorming support\, and an overview of the admission essay writing process. \nLog in to your Crosby Scholars student portal for more information about the academy and to register now!
URL:https://www.crosbyscholarsrowan.org/event/essay-lab-academy/
END:VEVENT
BEGIN:VEVENT
DTSTART;TZID=America/New_York:20210911T093000
DTEND;TZID=America/New_York:20210911T120000
DTSTAMP:20260421T010335
CREATED:20210813T151956Z
LAST-MODIFIED:20210825T195808Z
UID:10001567-1631352600-1631361600@www.crosbyscholarsrowan.org
SUMMARY:September 2021 Crosby Academy (7th - 11th Grade)
DESCRIPTION:Crosby Scholars will host an Academy on Saturday\, September 11th from 9:30am-12:00pm at Rowan-Cabarrus Community College’s North Campus (1333 Jake Alexander Boulevard South\, Salisbury\, NC Building N106). \nLog in to your Crosby Scholars student portal for more information about the academy and to register now!
URL:https://www.crosbyscholarsrowan.org/event/crosby-academy-7th-11th/
LOCATION:Rowan-Cabarrus Community College\, 1333 Jake Alexander Blvd S\, Salisbury\, NC\, 28146\, United States
END:VEVENT
BEGIN:VEVENT
DTSTART;TZID=America/New_York:20210908T180000
DTEND;TZID=America/New_York:20210908T190000
DTSTAMP:20260421T010335
CREATED:20210820T195518Z
LAST-MODIFIED:20210823T202447Z
UID:10001572-1631124000-1631127600@www.crosbyscholarsrowan.org
SUMMARY:East Carolina University Information Session (All Grades)
DESCRIPTION:Crosby Scholars will host East Carolina University for an Information Session on Wednesday\, September 8th from 6-7pm. Please join us and bring your questions! \nLog in to your Crosby Scholars student portal for more information and to register now!
URL:https://www.crosbyscholarsrowan.org/event/east-carolina-university-information-session-all-grades/
END:VEVENT
BEGIN:VEVENT
DTSTART;TZID=America/New_York:20210907T180000
DTEND;TZID=America/New_York:20210907T200000
DTSTAMP:20260421T010335
CREATED:20211007T201112Z
LAST-MODIFIED:20211007T201112Z
UID:10001585-1631037600-1631044800@www.crosbyscholarsrowan.org
SUMMARY:Middle School Crosby Information Night! (Erwin & Knox)
DESCRIPTION:Curious about what Crosby Scholars is? Come find out at our virtual information session through Zoom! \nErwin Session: 6pm – 7pm \nKnox Session: 7pm – 8pm \nCome get your answers! \n\nWhat is Crosby Scholars?\nCan anyone join?\nDoes it cost?\nHow can I join Now?\nHow does this help my child?\n\nZoom Link: https://us02web.zoom.us/j/86843514199?pwd=dmo5cWdzK2RPTndtTjVFbGtYaUk1Zz09 \n\nMeeting ID: 868 4351 4199\nPasscode: crosby
URL:https://www.crosbyscholarsrowan.org/event/middle-school-crosby-information-night-erwin-knox/
END:VEVENT
BEGIN:VEVENT
DTSTART;VALUE=DATE:20210906
DTEND;VALUE=DATE:20210907
DTSTAMP:20260421T010335
CREATED:20211007T200051Z
LAST-MODIFIED:20211007T200051Z
UID:10001518-1630886400-1630972799@www.crosbyscholarsrowan.org
SUMMARY:JCHS ROAR FALL 2021
DESCRIPTION:This is 15 Mondays in Fall 2021 that we did the ROAR time. Each Session is 25 minutes. We will complete\, 1 Academy\, Community Service\, and College Tours. \nPlease email ebrooks@crosbyscholarsrowan.org for more information or with any questions!
URL:https://www.crosbyscholarsrowan.org/event/jchs-roar-fall-2021/
END:VEVENT
BEGIN:VEVENT
DTSTART;TZID=America/New_York:20210902T173000
DTEND;TZID=America/New_York:20210902T183000
DTSTAMP:20260421T010335
CREATED:20210813T162518Z
LAST-MODIFIED:20210823T204831Z
UID:10001571-1630603800-1630607400@www.crosbyscholarsrowan.org
SUMMARY:Virtual College Tour Academy (9th - 12th Grade)
DESCRIPTION:Crosby Scholars will host a Virtual College Tour Academy on Thursday\, September 2nd from 5:30pm-6:30pm through Zoom. \nStudents will explore the many online college tour options and be introduced to several local institutions throughout the state. Your presenter will share several websites and interactive platforms to support your college search. Students should come prepared to take notes and ask questions! \nLog in to your Crosby Scholars student portal for more information about the academy and to register now!
URL:https://www.crosbyscholarsrowan.org/event/virtual-college-tour-academy-grades-9th-12th/
END:VEVENT
BEGIN:VEVENT
DTSTART;VALUE=DATE:20210831
DTEND;VALUE=DATE:20210901
DTSTAMP:20260421T010335
CREATED:20211007T195815Z
LAST-MODIFIED:20211007T195815Z
UID:10001514-1630368000-1630454399@www.crosbyscholarsrowan.org
SUMMARY:In-School College Applications 101
DESCRIPTION:Crosby Scholars will offer an Applications 101 in-school academy at multiple schools. Seniors who attend will receive academy credit. \nPlease email ebrooks@crosbyscholarsrowan.org for more information or with any questions!
URL:https://www.crosbyscholarsrowan.org/event/in-school-college-applications-101/
END:VEVENT
BEGIN:VEVENT
DTSTART;TZID=America/New_York:20210828T093000
DTEND;TZID=America/New_York:20210828T120000
DTSTAMP:20260421T010335
CREATED:20210812T123606Z
LAST-MODIFIED:20210825T195955Z
UID:10001566-1630143000-1630152000@www.crosbyscholarsrowan.org
SUMMARY:August 2021 Crosby Academy (Grades 7th-11th)
DESCRIPTION:Crosby Scholars will host an Academy on Saturday\, August 28th from 9:30am-12:00pm at Rowan-Cabarrus Community College’s North Campus (1333 Jake Alexander Boulevard South\, Salisbury\, NC Building N106). \nEach student MUST attend at least one Crosby Academy each year to remain an active scholar. \nLog in to your Crosby Scholars student portal for more information about the academy and to register now!
URL:https://www.crosbyscholarsrowan.org/event/crosby-academy-grades-7th-11th/
LOCATION:Rowan-Cabarrus Community College\, 1333 Jake Alexander Blvd S\, Salisbury\, NC\, 28146\, United States
END:VEVENT
BEGIN:VEVENT
DTSTART;VALUE=DATE:20210825
DTEND;VALUE=DATE:20210826
DTSTAMP:20260421T010335
CREATED:20211007T195702Z
LAST-MODIFIED:20211007T195702Z
UID:10001513-1629849600-1629935999@www.crosbyscholarsrowan.org
SUMMARY:CFNC FAFSA Recording (2020)
DESCRIPTION:Academy Credit will be granted to students who watch the CFNC FAFSA Recording from 2020. \nPlease email ebrooks@crosbyscholarsrowan.org for more information or with any questions!
URL:https://www.crosbyscholarsrowan.org/event/cfnc-fafsa-recording-2020/
END:VEVENT
BEGIN:VEVENT
DTSTART;TZID=America/New_York:20210824T180000
DTEND;TZID=America/New_York:20210824T190000
DTSTAMP:20260421T010335
CREATED:20210813T161459Z
LAST-MODIFIED:20210823T202031Z
UID:10001570-1629828000-1629831600@www.crosbyscholarsrowan.org
SUMMARY:College Applications 101 Academy (12th Grade)
DESCRIPTION:Crosby Scholars will host a College Applications 101 academy on Tuesday\, August 24th from 6:00pm – 7:00pm through Zoom. \nWe will discuss how to start the college application process and the many components required to complete them. Students will learn how to use these applications as extended resumes to detail their accomplishments and qualities. Students will be introduced to the many ways to apply to college this fall\, including the NC Free College Application week program. \nLog in to your Crosby Scholars student portal for more information about the academy and to register now!
URL:https://www.crosbyscholarsrowan.org/event/college-applications-101-academy-12th-grade/
END:VEVENT
BEGIN:VEVENT
DTSTART;TZID=America/New_York:20210824T080000
DTEND;TZID=America/New_York:20211007T170000
DTSTAMP:20260421T010335
CREATED:20211007T195419Z
LAST-MODIFIED:20211007T195419Z
UID:10001511-1629792000-1633626000@www.crosbyscholarsrowan.org
SUMMARY:CCP Recording (2020)
DESCRIPTION:Academy Credit will be granted to students who watch the CCP Recording from 2020. \nPlease email ebrooks@crosbyscholarsrowan.org for more information or with any questions!
URL:https://www.crosbyscholarsrowan.org/event/ccp-recording-2020/
END:VEVENT
BEGIN:VEVENT
DTSTART;VALUE=DATE:20210729
DTEND;VALUE=DATE:20210730
DTSTAMP:20260421T010335
CREATED:20210728T183950Z
LAST-MODIFIED:20210728T183950Z
UID:10001564-1627516800-1627603199@www.crosbyscholarsrowan.org
SUMMARY:Crosby Scholars Academy
DESCRIPTION:description \n  \n 
URL:https://www.crosbyscholarsrowan.org/event/crosby-scholars-academy/
LOCATION:Rowan-Cabarrus Community College\, 1333 Jake Alexander Blvd S\, Salisbury\, NC\, 28146\, United States
END:VEVENT
BEGIN:VEVENT
DTSTART;TZID=America/New_York:20210727T140000
DTEND;TZID=America/New_York:20210727T150000
DTSTAMP:20260421T010335
CREATED:20210820T203313Z
LAST-MODIFIED:20210823T202011Z
UID:10001581-1627394400-1627398000@www.crosbyscholarsrowan.org
SUMMARY:Big Campus vs. Small School: Sizing Up Your Options Academy
DESCRIPTION:Crosby Scholars will host a virtual academy on Tuesday\, July 27th at 2:00pm. \nThis academy will present both the big picture and the little details about how to approach choosing the right college fit for you and specifically the size of the school. There are benefits and drawbacks to the size of a school\, so get in on the discussion and learn some ways that you can size up the best option for you. \nLog in to your Crosby Scholars student portal for more information about the academy and to register now!
URL:https://www.crosbyscholarsrowan.org/event/big-campus-vs-small-school-sizing-up-your-options/
END:VEVENT
BEGIN:VEVENT
DTSTART;TZID=America/New_York:20210713T140000
DTEND;TZID=America/New_York:20210713T150000
DTSTAMP:20260421T010335
CREATED:20210820T203119Z
LAST-MODIFIED:20210823T201858Z
UID:10001580-1626184800-1626188400@www.crosbyscholarsrowan.org
SUMMARY:Essay Writing Academy (12th Grade)
DESCRIPTION:Join Crosby Scholars for an Essay Writing Academy on Tuesday\, July 13th from 2:00pm – 3:00pm. \nThe college application essay is your chance to show schools who you are? The goal is to maximize this opportunity with a thoughtful and concise essay that allows you to stand out among the other applicants. Our presenters will provide an overview of strategies\, tips\, and effective essays. Students should come with questions and be prepared to take notes as we explore the world of essay writing. \nLog in to your Crosby Scholars student portal for more information about the academy and to register now!
URL:https://www.crosbyscholarsrowan.org/event/essay-writing-senior-academy/
END:VEVENT
BEGIN:VEVENT
DTSTART;TZID=America/New_York:20210701T140000
DTEND;TZID=America/New_York:20210701T150000
DTSTAMP:20260421T010335
CREATED:20210820T202932Z
LAST-MODIFIED:20210823T201815Z
UID:10001579-1625148000-1625151600@www.crosbyscholarsrowan.org
SUMMARY:Common Application Academy (12th Grade)
DESCRIPTION:Crosby Scholars will host a Common Application Senior Academy on July 1st at 2pm. \nCrosby staff will introduce students to the Common Application process\, essay prompts\, and details around the changes to the application due to Covid-19. Students will also learn more about essay strategies and techniques. \nLog in to your Crosby Scholars student portal for more information about the academy and to register now!
URL:https://www.crosbyscholarsrowan.org/event/common-application-senior-academy-2/
END:VEVENT
BEGIN:VEVENT
DTSTART;TZID=America/New_York:20210622T140000
DTEND;TZID=America/New_York:20210622T150000
DTSTAMP:20260421T010335
CREATED:20210820T204304Z
LAST-MODIFIED:20210823T201709Z
UID:10001582-1624370400-1624374000@www.crosbyscholarsrowan.org
SUMMARY:De-Stress the Test Academy
DESCRIPTION:Crosby Scholars will host a De-Stress the Test Academy on June 22nd\, 2021. \nHave you ever wished you could get rid of the test-taking nerves and just take the test? Crosby Scholars is offering an academy to help you de-stress the test! Our test-taking experts will share strategies to help de-stress test taking so you can conquer those standardized tests. We offer strategies on how to approach taking the ACT\, SAT\, and other tests of importance. \nLog in to your Crosby Scholars student portal for more information about the academy and to register now!
URL:https://www.crosbyscholarsrowan.org/event/de-stress-the-test-3/
END:VEVENT
BEGIN:VEVENT
DTSTART;TZID=America/New_York:20210617T180000
DTEND;TZID=America/New_York:20210617T190000
DTSTAMP:20260421T010335
CREATED:20210820T204458Z
LAST-MODIFIED:20210823T201600Z
UID:10001503-1623952800-1623956400@www.crosbyscholarsrowan.org
SUMMARY:"Getting In" Academy
DESCRIPTION:Crosby Scholars will host a “Getting In” Academy on June 17th\, 2021 at 6pm. \nThis academy will provide students with an inside perspective of what Admissions Offices are looking for in a college applicant. Completing college applications can become monotonous and sometimes daunting\, especially if you don’t know what Admissions Counselors are looking for in an applicant. At this Academy\, we will engage in activities designed to help you better understand the Admissions process from both sides of the desk and help prepare you to be the most competitive applicant you can be. \nLog in to your Crosby Scholars student portal for more information about the academy and to register now!
URL:https://www.crosbyscholarsrowan.org/event/getting-in-academy/
END:VEVENT
BEGIN:VEVENT
DTSTART;TZID=America/New_York:20210601T140000
DTEND;TZID=America/New_York:20210601T150000
DTSTAMP:20260421T010335
CREATED:20210820T204708Z
LAST-MODIFIED:20210823T201512Z
UID:10001505-1622556000-1622559600@www.crosbyscholarsrowan.org
SUMMARY:Intro to Scholarships Academy
DESCRIPTION:Crosby Scholars will host an Intro to Scholarship Academy on June 1st\, 2021 at 2pm. \nThis academy is designed to help you search for scholarships\, manage applications\, and introduce you to many scholarship options and databases. Crosby staff will teach you how to plan a strategic scholarship search and introduce you to various opportunities. We will also share scholarship tips and writing techniques that will help you highlight your strengths and appeal to the scholarship committee. After this academy\, students will feel confident in the scholarship search and process. \nLog in to your Crosby Scholars student portal for more information about the academy and to register now!
URL:https://www.crosbyscholarsrowan.org/event/intro-to-scholarships-academy/
END:VEVENT
BEGIN:VEVENT
DTSTART;TZID=America/New_York:20210516T160000
DTEND;TZID=America/New_York:20210516T180000
DTSTAMP:20260421T010335
CREATED:20210406T150259Z
LAST-MODIFIED:20210429T193748Z
UID:10001563-1621180800-1621188000@www.crosbyscholarsrowan.org
SUMMARY:Drive-Thru Senior Celebration
DESCRIPTION:
URL:https://www.crosbyscholarsrowan.org/event/senior-celebration/
LOCATION:Rowan-Cabarrus Community College\, 1333 Jake Alexander Blvd S\, Salisbury\, NC\, 28146\, United States
END:VEVENT
BEGIN:VEVENT
DTSTART;TZID=America/New_York:20210513T180000
DTEND;TZID=America/New_York:20210513T190000
DTSTAMP:20260421T010335
CREATED:20210820T205159Z
LAST-MODIFIED:20210823T201324Z
UID:10001509-1620928800-1620932400@www.crosbyscholarsrowan.org
SUMMARY:Think Like a Senior Academy (B)
DESCRIPTION:Crosby Scholars will host a Think Like a Senior Academy on May 13th\, 2021 at 6pm. \nThink Like a Senior – start your summer off with steps in the right direction. We will create a target list of schools\, outline how to maximize your summer\, and map out a successful Senior journey. Be prepared for an interactive academy where our team will be available to answer all the questions you may have regarding your Senior Year and specifically how you can maximize your rising Senior summer and work toward building a balanced college list. \n\nLog in to your Crosby Scholars student portal for more information about the academy and to register now!
URL:https://www.crosbyscholarsrowan.org/event/think-like-a-senior-academy-b/
END:VEVENT
BEGIN:VEVENT
DTSTART;TZID=America/New_York:20210427T180000
DTEND;TZID=America/New_York:20210427T190000
DTSTAMP:20260421T010335
CREATED:20210820T205010Z
LAST-MODIFIED:20210823T201241Z
UID:10001507-1619546400-1619550000@www.crosbyscholarsrowan.org
SUMMARY:Think Like a Senior Academy (A)
DESCRIPTION:Crosby Scholars will host a Think Like a Senior Academy on April 27th\, 2021 at 6pm. \nThink Like a Senior – start your summer off with steps in the right direction. We will create a target list of schools\, outline how to maximize your summer\, and map out a successful Senior journey. Be prepared for an interactive academy where our team will be available to answer all the questions you may have regarding your Senior Year and specifically how you can maximize your rising Senior summer and work toward building a balanced college list. \n\nLog in to your Crosby Scholars student portal for more information about the academy and to register now!
URL:https://www.crosbyscholarsrowan.org/event/think-like-a-senior-academy-a/
END:VEVENT
BEGIN:VEVENT
DTSTART;TZID=America/New_York:20210303T180000
DTEND;TZID=America/New_York:20210303T190000
DTSTAMP:20260421T010335
CREATED:20201111T183801Z
LAST-MODIFIED:20201111T183801Z
UID:10001561-1614794400-1614798000@www.crosbyscholarsrowan.org
SUMMARY:6th Grade Virtual Academy -6:00pm
DESCRIPTION:6th Academy – 1 on 03/03/21\nEach Crosby Scholar is required to attend one Crosby Academy per school year.\nThis Academy focuses on:\nLearning Styles…discovering and using how you learn\nWords & Mindset…discovering the power of your words \nLOCATION: \n VIRTUAL ON ZOOM!\nIf you have any questions\, please contact Michelle Strong at\nmstrong@crosbyscholarsrowan.org
URL:https://www.crosbyscholarsrowan.org/event/6th-grade-virtual-academy-600pm-2/
LOCATION:On-line Academy
END:VEVENT
BEGIN:VEVENT
DTSTART;TZID=America/New_York:20210303T120000
DTEND;TZID=America/New_York:20210303T130000
DTSTAMP:20260421T010335
CREATED:20201111T183938Z
LAST-MODIFIED:20201111T183938Z
UID:10001562-1614772800-1614776400@www.crosbyscholarsrowan.org
SUMMARY:6th Grade Virtual Academy -12:00pm
DESCRIPTION:6th Academy – 1 on 03/03/21\nEach Crosby Scholar is required to attend one Crosby Academy per school year.\nThis Academy focuses on:\nLearning Styles…discovering and using how you learn\nWords & Mindset…discovering the power of your words \nLOCATION: \n     VIRTUAL ON ZOOM!\nIf you have any questions\, please contact Michelle Strong at\nmstrong@crosbyscholarsrowan.org
URL:https://www.crosbyscholarsrowan.org/event/6th-grade-virtual-academy-1200pm-3/
LOCATION:On-line Academy
END:VEVENT
BEGIN:VEVENT
DTSTART;TZID=America/New_York:20210203T180000
DTEND;TZID=America/New_York:20210203T190000
DTSTAMP:20260421T010335
CREATED:20201111T183452Z
LAST-MODIFIED:20201111T183452Z
UID:10001559-1612375200-1612378800@www.crosbyscholarsrowan.org
SUMMARY:6th Grade Virtual Academy -6:00pm
DESCRIPTION:6th Academy – 1 on 02/03/21\nEach Crosby Scholar is required to attend one Crosby Academy per school year.\nThis Academy focuses on:\nLearning Styles…discovering and using how you learn\nWords & Mindset…discovering the power of your words \nLOCATION: \nVIRTUAL ON ZOOM!\nIf you have any questions\, please contact Michelle Strong at\nmstrong@crosbyscholarsrowan.org
URL:https://www.crosbyscholarsrowan.org/event/6th-grade-virtual-academy-600pm/
LOCATION:On-line Academy
END:VEVENT
BEGIN:VEVENT
DTSTART;TZID=America/New_York:20210203T120000
DTEND;TZID=America/New_York:20210203T130000
DTSTAMP:20260421T010335
CREATED:20201111T183616Z
LAST-MODIFIED:20201111T183616Z
UID:10001560-1612353600-1612357200@www.crosbyscholarsrowan.org
SUMMARY:6th Grade Virtual Academy -12:00pm
DESCRIPTION:6th Academy – 1 on 02/03/21\nEach Crosby Scholar is required to attend one Crosby Academy per school year.\nThis Academy focuses on:\nLearning Styles…discovering and using how you learn\nWords & Mindset…discovering the power of your words \nLOCATION: \nVIRTUAL ON ZOOM!\nIf you have any questions\, please contact Michelle Strong at\nmstrong@crosbyscholarsrowan.org
URL:https://www.crosbyscholarsrowan.org/event/6th-grade-virtual-academy-1200pm-2/
LOCATION:On-line Academy
END:VEVENT
BEGIN:VEVENT
DTSTART;TZID=America/New_York:20210130T130000
DTEND;TZID=America/New_York:20210130T140000
DTSTAMP:20260421T010335
CREATED:20201111T183308Z
LAST-MODIFIED:20201111T183308Z
UID:10001558-1612011600-1612015200@www.crosbyscholarsrowan.org
SUMMARY:De-Stress the Test (9th/10th Grades)
DESCRIPTION:Have you ever wished you could get rid of the test-taking nerves? Would you like to learn useful strategies to help you conquer those standardized tests? \nCrosby Scholars will host a De-Stress the Test academy on Saturday\, January 30th from 1-2pm.  \nThis academy will be hosted via Zoom. Please register in the student portal to receive the Zoom link and password.
URL:https://www.crosbyscholarsrowan.org/event/de-stress-the-test-9th-10th-grades/
LOCATION:On-line Academy
END:VEVENT
BEGIN:VEVENT
DTSTART;TZID=America/New_York:20210125T170000
DTEND;TZID=America/New_York:20210125T180000
DTSTAMP:20260421T010335
CREATED:20201111T183118Z
LAST-MODIFIED:20201111T183118Z
UID:10001557-1611594000-1611597600@www.crosbyscholarsrowan.org
SUMMARY:Countdown to ACT (Junior Academy)
DESCRIPTION:As the statewide ACT quickly approaches\, it is time to buckle down for the last month of studying. \nCrosby Scholars will host a Countdown to ACT webinar on Monday\, January 25th from 5-6pm.  \nStudents will be instructed to create a study plan and evaluate their preparedness for the upcoming ACT. This academy will be hosted via Zoom. Please register in the student portal to receive the Zoom link and password.
URL:https://www.crosbyscholarsrowan.org/event/countdown-to-act-junior-academy/
LOCATION:On-line Academy
END:VEVENT
BEGIN:VEVENT
DTSTART;TZID=America/New_York:20210106T120000
DTEND;TZID=America/New_York:20210106T124500
DTSTAMP:20260421T010335
CREATED:20201027T162233Z
LAST-MODIFIED:20201027T162233Z
UID:10001555-1609934400-1609937100@www.crosbyscholarsrowan.org
SUMMARY:6th Grade Virtual Academy -12:00pm
DESCRIPTION:6th Academy – 1 on 02/01/20\nEach Crosby Scholar is required to attend one Crosby Academy per school year.\nThis Academy focuses on:\nLearning Styles…discovering and using how you learn\nWords & Mindset…discovering the power of your words \nLOCATION: \n                                                            VIRTUAL ON ZOOM! \nRegister in Student Portal
URL:https://www.crosbyscholarsrowan.org/event/6th-grade-virtual-academy-1200pm/
LOCATION:On-line Academy
END:VEVENT
BEGIN:VEVENT
DTSTART;TZID=America/New_York:20201212T150000
DTEND;TZID=America/New_York:20201212T190000
DTSTAMP:20260421T010335
CREATED:20201111T181946Z
LAST-MODIFIED:20201111T181946Z
UID:10001556-1607785200-1607799600@www.crosbyscholarsrowan.org
SUMMARY:Volunteer Opportunity: Sounds of Christmas
DESCRIPTION:GET SOME COMMUNITY SERVICE HOURS! \nIf interested contact: Joyce at joycecurl2@yahoo.com  \, cell 704-433-4251 \nIt is that time again for the request of your help to contribute your time to help with the Can Collection for the Sounds of Christmas fondly known as the Living Christmas Tree of First Baptist Church but very different this year. \nAs you have probably heard FBC is “taking” the message to the people.  We will be in the parking lot of our former mall proclaiming the real meaning of Christmas.  This move offers everyone a chance to reach folks that would have never darkened the church doors. \nSaying that it would be greatly appreciated if you could help out with the can food collection for Rowan Helping Ministries\, let me share. \nThere will be 3 services\, one on Saturday\, December 12 at 4 pm and two on Sunday\, December 13 at 4 pm and 7 pm.   You would need to be at the RHM trailer which will be parked near the fountain at the mall 1 hour before.  We will be collecting the cans in a drive-thru experience so “your safety” will be a major concern.  We are still tweaking the plan\, as on any mission trip\, we are going to be fluid and go with what is best for the mission at hand so your duties may vary.  There are needs for receivers\, assemblers\, transporters\, packers\, and trailer captain.  \nReceivers will retrieve the cans from the vehicles as they drive by.  You may be required to wear a reflective vest.  You will take the food to the assembly tables.  \n Assemblers will put multiple cans in larger tote bags.  \nTransporters will be carrying the tote bags from the assembly table to the RHM trailer\, taking the items out\, setting them on the table and returning the empty tote bag to the assembling tables to be refilled.   \nPackers will be assembling the cans in large banana boxes to be stacked inside the trailer.   \nTrailer Captain will oversee the packing of the cans in the banana boxes (more details at site) and be able with help\, to lift the boxes to stack them within the trailer. \nLast year the trailer was over ¾ full with boxes stacked as high as they could go. \nIn most all the areas listed above you will have adults working on this project in various areas.  Joyce Curl is the team leader and will assist you in any way possible and make any changes necessary.  \nFOOD!!!  yes there will be food!  Meals will be served for supper both Saturday and Sunday.  When you sign up\, Joyce will be in contact via phone\, text or email to confirm you plan to eat.  She has to make your reservations.   The meal reservation must be in the music office by Sunday\, Nov. 22. \nPlease consider and contact Joyce at joycecurl2@yahoo.com  \, cell 704-433-4251 \n leave a voice mail or text stating what times you can help. \nIf you have any need for credit for community volunteer work\, please bring your paper and Joyce will sign off for your time donated to this very worthy cause.
URL:https://www.crosbyscholarsrowan.org/event/volunteer-opportunity-sounds-of-christmas/
END:VEVENT
END:VCALENDAR