BEGIN:VCALENDAR
VERSION:2.0
PRODID:-//Crosby Scholars Rowan - ECPv6.15.13.1//NONSGML v1.0//EN
CALSCALE:GREGORIAN
METHOD:PUBLISH
X-WR-CALNAME:Crosby Scholars Rowan
X-ORIGINAL-URL:https://www.crosbyscholarsrowan.org
X-WR-CALDESC:Events for Crosby Scholars Rowan
REFRESH-INTERVAL;VALUE=DURATION:PT1H
X-Robots-Tag:noindex
X-PUBLISHED-TTL:PT1H
BEGIN:VTIMEZONE
TZID:America/New_York
BEGIN:DAYLIGHT
TZOFFSETFROM:-0500
TZOFFSETTO:-0400
TZNAME:EDT
DTSTART:20180311T070000
END:DAYLIGHT
BEGIN:STANDARD
TZOFFSETFROM:-0400
TZOFFSETTO:-0500
TZNAME:EST
DTSTART:20181104T060000
END:STANDARD
BEGIN:DAYLIGHT
TZOFFSETFROM:-0500
TZOFFSETTO:-0400
TZNAME:EDT
DTSTART:20190310T070000
END:DAYLIGHT
BEGIN:STANDARD
TZOFFSETFROM:-0400
TZOFFSETTO:-0500
TZNAME:EST
DTSTART:20191103T060000
END:STANDARD
BEGIN:DAYLIGHT
TZOFFSETFROM:-0500
TZOFFSETTO:-0400
TZNAME:EDT
DTSTART:20200308T070000
END:DAYLIGHT
BEGIN:STANDARD
TZOFFSETFROM:-0400
TZOFFSETTO:-0500
TZNAME:EST
DTSTART:20201101T060000
END:STANDARD
END:VTIMEZONE
BEGIN:VEVENT
DTSTART;TZID=America/New_York:20190907T093000
DTEND;TZID=America/New_York:20190907T114500
DTSTAMP:20260423T183300
CREATED:20190806T183857Z
LAST-MODIFIED:20190806T183857Z
UID:10001486-1567848600-1567856700@www.crosbyscholarsrowan.org
SUMMARY:* SAT Boot Camp
DESCRIPTION:SAT Boot Camp\nThe SAT is one of the entrance exams used by colleges to determine admission. It is critical that students put time and effort into preparing for this test. The Crosby Scholars program has partnered with Educational Testing Consultants (ETC) to host an SAT Bootcamp for 25 Seniors/Juniors. \nThis SAT Bootcamp will consist of 3 Saturday sessions. Students must commit to attend all 3 dates in order to participate. Each session will be held at RCCC building 600 and lasts 2 hours\, from 9:45 am – 11:45 am: \n\nSeptember 7th\,\nSeptember 14th\nSeptember 21st\n\nThe ETC SAT test preparation program covers all the skills needed for success on the SAT. Class sessions use real SAT problems so that you know just what to expect on test day. The SAT program consists of 6 hours of classroom instruction by an experienced instructor\, together with additional problems for further practice. \nMATH TOPICS INCLUDE: \n\ntechniques for picking numbers for problems with variables in the answer choices\nstrategies for solving complicated geometry problems by breaking them into smaller parts\ntactics for translating difficult word problems into equations\n\nREADING TOPICS INCLUDE: \n\nhow to read a passage for structure rather than content\napproaches for quickly identifying the parts of a passage needed to answer a question\ntechniques for answer questions with unfocused stems\n\nENGLISH TOPICS INCLUDE: \n\nan overview of the most common mistakes in sentence correction items\nspotting correct uses of idiomatic speech\nthe important role of punctuation in sentence correction items\n\nGENERAL TOPICS INCLUDE: \n\nutilizing the process of elimination\ntime management strategies\nreducing test anxiety\nrecognizing common distractors\n\nRemember to submit at least 2 hours of community service  for 2019-2020 using this link:  https://forms.gle/tGwHFLKfcWwAhtKL
URL:https://www.crosbyscholarsrowan.org/event/sat-boot-camp/
LOCATION:Rowan-Cabarrus Community College\, 1333 Jake Alexander Blvd S\, Salisbury\, NC\, 28146\, United States
ORGANIZER;CN="Sarah Featherstone":MAILTO:info@crosbyscholarsrowan.org
END:VEVENT
BEGIN:VEVENT
DTSTART;TZID=America/New_York:20190907T093000
DTEND;TZID=America/New_York:20190907T114500
DTSTAMP:20260423T183300
CREATED:20190806T184309Z
LAST-MODIFIED:20190806T184309Z
UID:10001487-1567848600-1567856700@www.crosbyscholarsrowan.org
SUMMARY:7th-8th Grade Academy - 1
DESCRIPTION:Each Crosby Scholar is required to attend one Crosby Academy per school year. \nEach student will participate in 2 workshops that focus on personal and academic skills to increase potential for success in both high school and college.\nLOCATION: \nRowan-Cabarrus Community College (North Campus – 600 Bldg)\n1333 Jake Alexander Boulevard South\, Salisbury\, NC \nAcademy will be held from 9:30am-11:45am. Please eat before you arrive\, NO FOOD will be provided. \nFollow our signs on campus to Building 600 for student drop-off\, registration\, etc.  \nCheck-in from 9:10am-9:30am.  You must stay for the entire Academy and submit an attendance sheet in order to receive credit for this program requirement. The event will conclude at 11:45am. Please pick-up students promptly at the end of Academy. \n\nParents please note\, by allowing your student(s) to attend the Crosby Scholars Academy\, you are agreeing to the terms of the Parent Partnership Agreement located in your student’s portal. This agreement will remain in effect for the duration of your student’s participation in the program.  Should you not agree with these terms\, you are required to contact the Executive Director\,Jessica Vess\,  before allowing your student to attend the Crosby Scholars Academy. Once your student attends Academy\, the agreement is in effect until the student voluntarily withdraws from the program or does not fulfill a program requirement.
URL:https://www.crosbyscholarsrowan.org/event/7th-8th-grade-academy-1/
LOCATION:Rowan-Cabarrus Community College\, 1333 Jake Alexander Blvd S\, Salisbury\, NC\, 28146\, United States
END:VEVENT
BEGIN:VEVENT
DTSTART;TZID=America/New_York:20190910T180000
DTEND;TZID=America/New_York:20190910T193000
DTSTAMP:20260423T183300
CREATED:20190806T184612Z
LAST-MODIFIED:20190806T184612Z
UID:10001488-1568138400-1568143800@www.crosbyscholarsrowan.org
SUMMARY:Essay Writing Workshop: Juniors and Seniors
DESCRIPTION:Attend our essay writing workshop and build a better essay. Learn what to do to make your essay stand out and how to improve. Bring your rough drafts and we will help you craft your essay so you can shine. \nThis is an interactive essay writing workshop so you will need to bring whatever drafts you have so far and we will help you edit and craft a stronger essay for applications and scholarships. Bring the prompt with you for whatever you are writing about.
URL:https://www.crosbyscholarsrowan.org/event/essay-writing-workshop-juniors-and-seniors/
LOCATION:Wallace Educational Forum\, 500 N Main Street\, Salisbury\, NC\, 28144\, United States
END:VEVENT
BEGIN:VEVENT
DTSTART;TZID=America/New_York:20190921T123000
DTEND;TZID=America/New_York:20190921T210000
DTSTAMP:20260423T183300
CREATED:20190806T185039Z
LAST-MODIFIED:20190806T185039Z
UID:10001489-1569069000-1569099600@www.crosbyscholarsrowan.org
SUMMARY:Volunteer Opporutnity: Walk for Life Pregnancy Support Center
DESCRIPTION:We are looking for volunteers to help us set up and tear down our Walk for Life event on Saturday\, September 21st. The group would be required to do either one or both shifts: \nSet up at 12:30pm until finished\nTear Down at 8:00pm until finished \nRegister to volunteer or contact : \nHeather Lowe\, Director of Development \nPregnancy Support Center \n847 S. Main St. \nSalisbury NC 28147 \n 
URL:https://www.crosbyscholarsrowan.org/event/volunteer-opporutnity-walk-for-life-pregnancy-support-center/
LOCATION:NC
END:VEVENT
BEGIN:VEVENT
DTSTART;TZID=America/New_York:20190928T180000
DTEND;TZID=America/New_York:20190928T200000
DTSTAMP:20260423T183300
CREATED:20190806T192713Z
LAST-MODIFIED:20190806T193341Z
UID:10001490-1569693600-1569700800@www.crosbyscholarsrowan.org
SUMMARY:Volunteer Opportunity: Crosby Scholars Fundraiser
DESCRIPTION:Volunteer Opportunity\nCrosby Scholars fundraiser: BBQ\, Bands & Boots\nSaturday\, September 28th from 6pm-8pm\nat the F&M Trolley Barn\, 165 E. Liberty St\, Salisbury\, NC\n30 high school volunteers are needed on Saturday\, September 28 from 6pm-8pm during the Crosby Scholars fundraising event – BBQ\, Bands & Boots. Students will greet guests at the entrance and help with some fundraising games and activities. \nYou must wear your Crosby Scholars t-shirt and a BIG SMILE!\nPreference is given to students who are outgoing and positive\, to serve as ambassadors of our program. \nRegister in the student portal.
URL:https://www.crosbyscholarsrowan.org/event/volunteer-opportunity-crosby-scholars-fundraiser/
LOCATION:F& M Trolley Barn\, 165 E. Liberty Street\, Salisbury\, NC\, 28144
ORGANIZER;CN="Sarah Featherstone":MAILTO:info@crosbyscholarsrowan.org
END:VEVENT
BEGIN:VEVENT
DTSTART;TZID=America/New_York:20190929T110000
DTEND;TZID=America/New_York:20190929T170000
DTSTAMP:20260423T183300
CREATED:20190806T193812Z
LAST-MODIFIED:20190806T193812Z
UID:10001491-1569754800-1569776400@www.crosbyscholarsrowan.org
SUMMARY:Volunteer Opportunity: Food Lion Family Day
DESCRIPTION:Volunteer Opportunity\nFood Lion Family Day\nSunday\, September 29: 11 am – 5 pm\nWe are looking for a minimum of 35 high school volunteers. Please register on the student portal.\nCoordinate with some Crosby friends to volunteer together! \nLunch will be provided. \nEvent to be held at the Food Lion Warehouse\, 2085 Harrison Road\, Salisbury NC
URL:https://www.crosbyscholarsrowan.org/event/volunteer-opportunity-food-lion-family-day/
LOCATION:Food Lion Warehouse\, 2085 Harrison Road\, Salisbury\, NC\, 28146
END:VEVENT
END:VCALENDAR