BEGIN:VCALENDAR
VERSION:2.0
PRODID:-//Crosby Scholars Rowan - ECPv6.15.13.1//NONSGML v1.0//EN
CALSCALE:GREGORIAN
METHOD:PUBLISH
X-WR-CALNAME:Crosby Scholars Rowan
X-ORIGINAL-URL:https://www.crosbyscholarsrowan.org
X-WR-CALDESC:Events for Crosby Scholars Rowan
REFRESH-INTERVAL;VALUE=DURATION:PT1H
X-Robots-Tag:noindex
X-PUBLISHED-TTL:PT1H
BEGIN:VTIMEZONE
TZID:America/New_York
BEGIN:DAYLIGHT
TZOFFSETFROM:-0500
TZOFFSETTO:-0400
TZNAME:EDT
DTSTART:20180311T070000
END:DAYLIGHT
BEGIN:STANDARD
TZOFFSETFROM:-0400
TZOFFSETTO:-0500
TZNAME:EST
DTSTART:20181104T060000
END:STANDARD
BEGIN:DAYLIGHT
TZOFFSETFROM:-0500
TZOFFSETTO:-0400
TZNAME:EDT
DTSTART:20190310T070000
END:DAYLIGHT
BEGIN:STANDARD
TZOFFSETFROM:-0400
TZOFFSETTO:-0500
TZNAME:EST
DTSTART:20191103T060000
END:STANDARD
BEGIN:DAYLIGHT
TZOFFSETFROM:-0500
TZOFFSETTO:-0400
TZNAME:EDT
DTSTART:20200308T070000
END:DAYLIGHT
BEGIN:STANDARD
TZOFFSETFROM:-0400
TZOFFSETTO:-0500
TZNAME:EST
DTSTART:20201101T060000
END:STANDARD
END:VTIMEZONE
BEGIN:VEVENT
DTSTART;TZID=America/New_York:20191001T180000
DTEND;TZID=America/New_York:20191001T193000
DTSTAMP:20260423T165425
CREATED:20190806T194501Z
LAST-MODIFIED:20190925T183506Z
UID:10001492-1569952800-1569958200@www.crosbyscholarsrowan.org
SUMMARY:* Senior Academy:  Filing the FAFSA
DESCRIPTION:Our October Senior Academy available for the Class of 2020 will be on Tuesday\, October 1st at the Hemann Room at 6:00 pm in downtown Salisbury- 225 N Main Street accessible from the Easy Street walkway across from the Courthouse. Parents are welcome to attend this event. Please bring your laptop with you! \nhttps://studentaid.ed.gov/sa/fafsa/filling-out/fsaid
URL:https://www.crosbyscholarsrowan.org/event/senior-academy-filing-the-fafsa/
LOCATION:Randy Hemann Room\, 225 N Main St\, Salisbury\, NC\, 28144\, United States
ORGANIZER;CN="Sarah Featherstone":MAILTO:info@crosbyscholarsrowan.org
END:VEVENT
BEGIN:VEVENT
DTSTART;VALUE=DATE:20191012
DTEND;VALUE=DATE:20191014
DTSTAMP:20260423T165425
CREATED:20191008T141155Z
LAST-MODIFIED:20191008T142033Z
UID:10001493-1570838400-1571011199@www.crosbyscholarsrowan.org
SUMMARY:Volunteer Opportunity - October Tour
DESCRIPTION:Volunteer at October Tour! \nOn Saturday\, October 12th and Sunday\, October 13th\, the annual October Tour will be held. Volunteers should be junior or senior Crosby Scholars who are outgoing\, enthusiastic\, and friendly. Please wear a Crosby Scholars t-shirt with jeans or khaki pants. \nStudents will work in groups of 2 during a 2-hour time slot available. \n Interested students should email Leah Campion at events@historicsalisbury.org\, or they can fill out the volunteer form on their website: https://www.octobertour.com/volunteer
URL:https://www.crosbyscholarsrowan.org/event/volunteer-opportunity-october-tour/
LOCATION:NC
END:VEVENT
BEGIN:VEVENT
DTSTART;TZID=America/New_York:20191019T093000
DTEND;TZID=America/New_York:20191019T114500
DTSTAMP:20260423T165425
CREATED:20191008T141534Z
LAST-MODIFIED:20191008T141534Z
UID:10001494-1571477400-1571485500@www.crosbyscholarsrowan.org
SUMMARY:9th & 10th Grade Academy - 2
DESCRIPTION:9th/10th Academy – 2 on 10/19/19\nEach Crosby Scholar is required to attend one Crosby Academy per school year. Each student at the 9th/10th Academy can select 2 workshops from a variety of topics that focus on personal and academic skills to increase potential for success in both high school and college. \nWORKSHOPS OFFERED:  \n\nGet Your Life Together – strategies for time management\, organization\, and study skills\nMoney on My Mind – learn to make your money work for you\nDe-Stress the Test – strategies for staying relaxed and successful on big tests\nStick to It – an interactive workshop on perseverance\nPathway to College – learn what you should be doing right now to prepare for college\n\n\nLOCATION:\nRowan-Cabarrus Community College (North Campus – 600 Bldg)\n1333 Jake Alexander Boulevard South\, Salisbury\, NC \nAcademy will be held from 9:30am-11:45am.  \nFollow our signs on campus to Building 600 for student drop-off\, registration\, etc.  \nCheck-in from 9:10am-9:30am. You must stay for the entire Academy and submit an attendance sheet in order to receive credit for this program requirement. The event will conclude at 11:45am. Please pick-up students promptly at the end of Academy. \n\nParents\, please note\, by allowing your student(s) to attend the Crosby Scholars Academy\, you are agreeing to the terms of the Parent Partnership Agreement located in your student’s portal. This agreement will remain in effect for the duration of your student’s participation in the program.  Should you not agree with these terms\, you are required to contact the Executive Director\, Jessica Vess\, before allowing your student to attend the Crosby Scholars Academy. Once your student attends Academy\, the agreement is in effect until the student voluntarily withdraws from the program or does not fulfill a program requirement.\n\nRemember to submit at least 2 hours of community service  for 2019-2020 using this link:  https://forms.gle/tGwHFLKfcWwAhtKL6
URL:https://www.crosbyscholarsrowan.org/event/9th-10th-grade-academy-2/
LOCATION:Rowan-Cabarrus Community College\, 1333 Jake Alexander Blvd S\, Salisbury\, NC\, 28146\, United States
END:VEVENT
BEGIN:VEVENT
DTSTART;TZID=America/New_York:20191019T093000
DTEND;TZID=America/New_York:20191019T114500
DTSTAMP:20260423T165425
CREATED:20191008T141839Z
LAST-MODIFIED:20191008T141839Z
UID:10001495-1571477400-1571485500@www.crosbyscholarsrowan.org
SUMMARY:7th-8th Grade Academy - 2
DESCRIPTION:Each Crosby Scholar is required to attend one Crosby Academy per school year. \nEach student will participate in 2 workshops that focus on personal and academic skills to increase the potential for success in both high school and college.\nLOCATION: \nRowan-Cabarrus Community College (North Campus – 600 Bldg)\n1333 Jake Alexander Boulevard South\, Salisbury\, NC \nAcademy will be held from 9:30am-11:45am. Please eat before you arrive\, NO FOOD will be provided. \nFollow our signs on campus to Building 600 for student drop-off\, registration\, etc.  \nCheck-in from 9:10am-9:30am.  You must stay for the entire Academy and submit an attendance sheet in order to receive credit for this program requirement. The event will conclude at 11:45am. Please pick-up students promptly at the end of Academy. \n\nParents\, please note\, by allowing your student(s) to attend the Crosby Scholars Academy\, you are agreeing to the terms of the Parent Partnership Agreement located in your student’s portal. This agreement will remain in effect for the duration of your student’s participation in the program.  Should you not agree with these terms\, you are required to contact the Executive Director\, Jessica Vess\,  before allowing your student to attend the Crosby Scholars Academy. Once your student attends Academy\, the agreement is in effect until the student voluntarily withdraws from the program or does not fulfill a program requirement.
URL:https://www.crosbyscholarsrowan.org/event/7th-8th-grade-academy-2/
LOCATION:Rowan-Cabarrus Community College\, 1333 Jake Alexander Blvd S\, Salisbury\, NC\, 28146\, United States
END:VEVENT
BEGIN:VEVENT
DTSTART;TZID=America/New_York:20191023T093000
DTEND;TZID=America/New_York:20191023T114500
DTSTAMP:20260423T165425
CREATED:20191023T145510Z
LAST-MODIFIED:20191023T145510Z
UID:10001508-1571823000-1571831100@www.crosbyscholarsrowan.org
SUMMARY:7th-8th Grade Academy - 4
DESCRIPTION:Each Crosby Scholar is required to attend one Crosby Academy per school year. \nEach student will participate in 2 workshops that focus on personal and academic skills to increase the potential for success in both high school and college.\nLOCATION: \nRowan-Cabarrus Community College (North Campus – 600 Bldg)\n1333 Jake Alexander Boulevard South\, Salisbury\, NC \nAcademy will be held from 9:30am-11:45am. Please eat before you arrive\, NO FOOD will be provided. \nFollow our signs on campus to Building 600 for student drop-off\, registration\, etc.  \nCheck-in from 9:10am-9:30am.  You must stay for the entire Academy and submit an attendance sheet in order to receive credit for this program requirement. The event will conclude at 11:45am. Please pick-up students promptly at the end of Academy. \n\nParents\, please note\, by allowing your student(s) to attend the Crosby Scholars Academy\, you are agreeing to the terms of the Parent Partnership Agreement located in your student’s portal. This agreement will remain in effect for the duration of your student’s participation in the program.  Should you not agree with these terms\, you are required to contact the Executive Director\, Jessica Vess\,  before allowing your student to attend the Crosby Scholars Academy. Once your student attends Academy\, the agreement is in effect until the student voluntarily withdraws from the program or does not fulfill a program requirement.
URL:https://www.crosbyscholarsrowan.org/event/7th-8th-grade-academy-4/
LOCATION:Rowan-Cabarrus Community College\, 1333 Jake Alexander Blvd S\, Salisbury\, NC\, 28146\, United States
END:VEVENT
BEGIN:VEVENT
DTSTART;TZID=America/New_York:20191023T093000
DTEND;TZID=America/New_York:20191023T114500
DTSTAMP:20260423T165425
CREATED:20191023T153924Z
LAST-MODIFIED:20191023T153924Z
UID:10001510-1571823000-1571831100@www.crosbyscholarsrowan.org
SUMMARY:Junior Academy - 1
DESCRIPTION:JUNIOR ACADEMY – 1\nSaturday\, 11/17/19\n9:30 am-11:45 am \nPlease register for & attend one Junior Academy. \nEach Crosby Scholar is required to attend one Crosby Academy per school year. \nJUNIOR ACADEMY LOCATION:\nRowan-Cabarrus Community College (Building 600)\n1333 Jake Alexander Blvd. S\nSalisbury\, NC 28146 \nCheck-in from 9:30-9:45 am. You must stay for the entire Academy and submit an evaluation form in order to receive credit for this program requirement. \nParents are also invited to participate in the optional Parent Session. \nNO FOOD WILL BE PROVIDED AT THIS EVENT.
URL:https://www.crosbyscholarsrowan.org/event/junior-academy-1/
LOCATION:Rowan-Cabarrus Community College\, 1333 Jake Alexander Blvd S\, Salisbury\, NC\, 28146\, United States
END:VEVENT
BEGIN:VEVENT
DTSTART;TZID=America/New_York:20191024T170000
DTEND;TZID=America/New_York:20191024T200000
DTSTAMP:20260423T165425
CREATED:20191008T142629Z
LAST-MODIFIED:20191008T142736Z
UID:10001496-1571936400-1571947200@www.crosbyscholarsrowan.org
SUMMARY:Volunteer Opportunity - Explore the Greenway 5K (Overton Elementary PTA)
DESCRIPTION:Overton PTA is looking for energetic volunteers to help make this fun event a success!\nHotdog dinner free for all volunteers! \nWe need volunteers to help welcome runners and also to cheer participants on along the route.  Many participants will be ELEMENTARY AGED STUDENTS so volunteers can cheer\, applaud\, or run alongside them.  The 5K route begins at Knox Middle School and proceeds through the Greenway\, Eagle Heights neighborhood and back to the Knox track for the finish line.  The “Monster 1/2 Mile” fun run is around the Knox track.  Being so close to Halloween this year\, the Explore the Greenway 5K is advertising as “Spooky Edition” so costumes are welcome! \n Please note that the event is on a THURSDAY evening.  \nQuestions?  Email ptaoverton@gmail.com
URL:https://www.crosbyscholarsrowan.org/event/volunteer-opportunity-explore-the-greenway-5k-overton-elementary-pta/
LOCATION:NC
END:VEVENT
BEGIN:VEVENT
DTSTART;TZID=America/New_York:20191027T150000
DTEND;TZID=America/New_York:20191027T170000
DTSTAMP:20260423T165425
CREATED:20191008T143618Z
LAST-MODIFIED:20191024T150728Z
UID:10001497-1572188400-1572195600@www.crosbyscholarsrowan.org
SUMMARY:Rowan County College Fair
DESCRIPTION:ROWAN COUNTY COLLEGE FAIR\nEach year\, a regional college fair is held in Rowan County featuring over 50 colleges and universities from NC and the southeast. This event is free to the public. High school Crosby Scholars are required to attend 1 college fair or tour 4 college campuses before graduation. Attending this event will meet that requirement. \nRowan County College Fair\nSunday\, October 27\, 2019\n3pm-5pm\nCatawba College – Gymnasium \nPlease take this form with you to the college fair. (Copies of this form will also be available at check-in.) \nAt the College Fair\, we ask that you meet with 4 college representatives and ask each rep to sign your form verifying your conversation. If you attend the Rowan County College Fair\, you must submit this form at the Crosby Scholars table before leaving the fair. \n\nIt’s College Fair time!  Share your contact information effortlessly.  Don’t write it down or spend time printing labels.  Get a barcode and have it scanned at every college table.  Go to www.gotocollegefairs.com\, and electronically complete the registration form\, to securely share your information with colleges of your choice.  Spend more time talking to the admissions representative to know more about their school. \nHow to registration guide? \n\nAccess www.gotocollegefairs.com website\nNavigate to the “Student” button and select the “Register Now” option\nSelect state and choose the fair to attend by checking the “Attending” checkbox\nComplete the registration form\nCheck the “terms and conditions boxes” and hit the “submit” button to complete the form\nThe barcode is displayed – Print or save. You’re done!\n\nYour barcode is emailed two days before and on the day of the fair.  Print or display on your smart phone to get scanned. \nHere are a few questions you can ask. \n\nWhat are the admission requirements?\nWhat qualities should prospective students have?\nWhich standardized test scores do you require?\nWhat majors are offered? What’s the most popular?\nWhat are the application deadlines for admission?\nAre interviews required? Are there group or individual interviews?\nHow can I arrange a campus visit?\nHow long should I expect to wait for an answer once I submit my application?\n\nIf you have any questions\, feel free to email Michelle Rogers (michelle@gotocollegefairs.com); our college fair registration provider at GoToCollegeFairs.
URL:https://www.crosbyscholarsrowan.org/event/rowan-county-college-fair/
LOCATION:Catawba College\, 2300 W Innes Street\, Salisbury\, NC\, NC\, 28144
END:VEVENT
BEGIN:VEVENT
DTSTART;TZID=America/New_York:20191029T190000
DTEND;TZID=America/New_York:20191029T210000
DTSTAMP:20260423T165425
CREATED:20191008T144917Z
LAST-MODIFIED:20191008T145252Z
UID:10001498-1572375600-1572382800@www.crosbyscholarsrowan.org
SUMMARY:Charlotte Performing and Visual Arts College Fair
DESCRIPTION:College Performing and Visual Arts College Fair  \nFree and open to the public- College Performing and Visual Arts College Fair – in Charlotte\, NC October 29th from 7-9pm\nSeveral colleges/universities in one location! Bring your form and get 4 signatures for credit. \nSeveral colleges/universities in one location- attend and bring your college fair form and get 4 signatures and submit for College Fair credit! \nWednesday\, October 29th\, from 7-9pm \nThe Park Expo & Conference Center \n800 Briar Creek Rd. \nCharlotte\, NC 28205 \nRegister Here: https://www.nacacfairs.org/attend/pva/charlotte/
URL:https://www.crosbyscholarsrowan.org/event/charlotte-performing-and-visual-arts-college-fair/
LOCATION:The Park Expo & Conference Center\, 800 Briar Creek Road\, Charlotte\, 28205\, United States
END:VEVENT
END:VCALENDAR