BEGIN:VCALENDAR
VERSION:2.0
PRODID:-//Crosby Scholars Rowan - ECPv6.15.13.1//NONSGML v1.0//EN
CALSCALE:GREGORIAN
METHOD:PUBLISH
X-WR-CALNAME:Crosby Scholars Rowan
X-ORIGINAL-URL:https://www.crosbyscholarsrowan.org
X-WR-CALDESC:Events for Crosby Scholars Rowan
REFRESH-INTERVAL;VALUE=DURATION:PT1H
X-Robots-Tag:noindex
X-PUBLISHED-TTL:PT1H
BEGIN:VTIMEZONE
TZID:America/New_York
BEGIN:DAYLIGHT
TZOFFSETFROM:-0500
TZOFFSETTO:-0400
TZNAME:EDT
DTSTART:20180311T070000
END:DAYLIGHT
BEGIN:STANDARD
TZOFFSETFROM:-0400
TZOFFSETTO:-0500
TZNAME:EST
DTSTART:20181104T060000
END:STANDARD
BEGIN:DAYLIGHT
TZOFFSETFROM:-0500
TZOFFSETTO:-0400
TZNAME:EDT
DTSTART:20190310T070000
END:DAYLIGHT
BEGIN:STANDARD
TZOFFSETFROM:-0400
TZOFFSETTO:-0500
TZNAME:EST
DTSTART:20191103T060000
END:STANDARD
BEGIN:DAYLIGHT
TZOFFSETFROM:-0500
TZOFFSETTO:-0400
TZNAME:EDT
DTSTART:20200308T070000
END:DAYLIGHT
BEGIN:STANDARD
TZOFFSETFROM:-0400
TZOFFSETTO:-0500
TZNAME:EST
DTSTART:20201101T060000
END:STANDARD
END:VTIMEZONE
BEGIN:VEVENT
DTSTART;TZID=America/New_York:20191102T093000
DTEND;TZID=America/New_York:20191102T170000
DTSTAMP:20260423T152421
CREATED:20191025T201641Z
LAST-MODIFIED:20191025T201641Z
UID:10000824-1572687000-1572714000@www.crosbyscholarsrowan.org
SUMMARY:Volunteer Opportunity: Make a Wish "Pitchin' for Wishes"
DESCRIPTION:Make a Wish Foundation is looking for volunteers for the Pitchin’ for Wishes Cornhole Tournament which will be held on Saturday\, November 2nd at Freedom Park in Charlotte.  They would love to have some Crosby Scholars\, ages 14+\, be involved with the event. \nThere are 2 volunteer shifts available: \n9:30 am- 4:30 pm: Event and Scorekeeping ** biggest need** \n1:30 pm – 5:00 pm: Breakdown \nFor this event\, you must be able to work the full shift. Split shifts or shorter shifts will not be available. This is to help the event run as smoothly as possible! This event will occur rain or shine and does require long periods of standing. However\, it is also a whole lot of fun!! \nUse this link to sign up!
URL:https://www.crosbyscholarsrowan.org/event/volunteer-opportunity-make-a-wish-pitchin-for-wishes/
LOCATION:NC
END:VEVENT
BEGIN:VEVENT
DTSTART;TZID=America/New_York:20191111T093000
DTEND;TZID=America/New_York:20191111T170000
DTSTAMP:20260423T152421
CREATED:20191017T202246Z
LAST-MODIFIED:20191017T202246Z
UID:10001506-1573464600-1573491600@www.crosbyscholarsrowan.org
SUMMARY:HBCU College Tour
DESCRIPTION:HBCU College Tour – North Carolina Agricultural & Technical State University and Winston-Salem State University \nA campus visit is your opportunity to get a firsthand view of a college. On November 11th\, the Crosby Scholars program will offer a FREE day trip for interested students to visit two different universities. During these visits\, students will have the opportunity to tour campuses\, attend admissions presentations\, and more. Space is limited\, so register as soon as possible! \nTo secure a spot on the tour: \nFirst\, you must register online in the Crosby Scholars portal. \nNext\, you must submit a Parent Permission Form to your Crosby Scholars representative or to the Crosby Scholars office (by fax\, or e-mail a picture of your signed permission form to ebrooks@crosbyscholarsrowan.org) by Friday\, November 8th. This form is attached to the event. Failure to submit a completed permission form by the deadline can result in forfeiting your spot on the tour to someone on the waiting list. \nMonday\, November 11th: North Carolina Agricultural & Technical State University and Winston-Salem State University \nThe bus will leave from the parking lot of Extra Space Storage (725 Jake Alexander Blvd) at 9:30 am. Don’t be late! The bus is scheduled to return at 5:00 pm. \nLunch will be provided. You may bring your own snacks and spending money if you like! \nContact us with any questions: info@crosbyscholarsrowan.org or 704-762-3512 \nOnly 45 spots are available for this tour date. Spots are available first-come\, first-served based on online registration and permission forms received in advance. A waiting list will be created if the tour fills up and if a spot becomes available students will be contacted in the order they registered. If you register for this event and find out that you are unable to attend\, please make sure to cancel your registration in the portal so that another student can have your spot. Thank you!
URL:https://www.crosbyscholarsrowan.org/event/hbcu-college-tour/
LOCATION:Extra Space Storage\, 725 Jake Alexander Blvd\, Salisbury\, NC\, 28144\, United States
END:VEVENT
BEGIN:VEVENT
DTSTART;TZID=America/New_York:20191112T180000
DTEND;TZID=America/New_York:20191112T193000
DTSTAMP:20260423T152421
CREATED:20191008T145955Z
LAST-MODIFIED:20191008T145955Z
UID:10001499-1573581600-1573587000@www.crosbyscholarsrowan.org
SUMMARY:Junior/Senior Academy 8: Applying for Scholarships
DESCRIPTION:Senior Academy  – Applying for Scholarships\nTuesday\, November 12th\, 6:00pm-7:30pm\nWallace Education Forum: RSS Headquarters (3rd Floor Training Room)\n500 N. Main St\, Salisbury NC 28144 \nSeniors are required to attend 2 Senior Academies to fulfill the Academy requirement. 10 different Academies will be offered in the senior year – a new topic is discussed at each academy. If you are unable to attend this Academy date or wish to wait for another topic\, feel free to register instead for 2 other Academies as they come available.
URL:https://www.crosbyscholarsrowan.org/event/junior-senior-academy-8-applying-for-scholarships/
LOCATION:Wallace Educational Forum\, 500 N Main Street\, Salisbury\, NC\, 28144\, United States
END:VEVENT
BEGIN:VEVENT
DTSTART;TZID=America/New_York:20191116T093000
DTEND;TZID=America/New_York:20191116T114500
DTSTAMP:20260423T152421
CREATED:20191008T150319Z
LAST-MODIFIED:20191008T150319Z
UID:10001500-1573896600-1573904700@www.crosbyscholarsrowan.org
SUMMARY:7th-8th Grade Academy - 3
DESCRIPTION:Each Crosby Scholar is required to attend one Crosby Academy per school year. \nEach student will participate in 2 workshops that focus on personal and academic skills to increase the potential for success in both high school and college.\nLOCATION: \nRowan-Cabarrus Community College (North Campus – 600 Bldg)\n1333 Jake Alexander Boulevard South\, Salisbury\, NC \nAcademy will be held from 9:30am-11:45am. Please eat before you arrive\, NO FOOD will be provided. \nFollow our signs on campus to Building 600 for student drop-off\, registration\, etc.  \nCheck-in from 9:10am-9:30am.  You must stay for the entire Academy and submit an attendance sheet in order to receive credit for this program requirement. The event will conclude at 11:45am. Please pick-up students promptly at the end of Academy. \n\nParents\, please note\, by allowing your student(s) to attend the Crosby Scholars Academy\, you are agreeing to the terms of the Parent Partnership Agreement located in your student’s portal. This agreement will remain in effect for the duration of your student’s participation in the program.  Should you not agree with these terms\, you are required to contact the Executive Director\, Jessica Vess\,  before allowing your student to attend the Crosby Scholars Academy. Once your student attends Academy\, the agreement is in effect until the student voluntarily withdraws from the program or does not fulfill a program requirement.
URL:https://www.crosbyscholarsrowan.org/event/7th-8th-grade-academy-3/
LOCATION:Rowan-Cabarrus Community College\, 1333 Jake Alexander Blvd S\, Salisbury\, NC\, 28146\, United States
END:VEVENT
BEGIN:VEVENT
DTSTART;TZID=America/New_York:20191116T093000
DTEND;TZID=America/New_York:20191116T114500
DTSTAMP:20260423T152421
CREATED:20191008T151047Z
LAST-MODIFIED:20191008T151047Z
UID:10001501-1573896600-1573904700@www.crosbyscholarsrowan.org
SUMMARY:9th & 10th Grade Academy - 3
DESCRIPTION:9th/10th Academy – 3 on 11/16/19\nEach Crosby Scholar is required to attend one Crosby Academy per school year. Each student at the 9th/10th Academy can select 2 workshops from a variety of topics that focus on personal and academic skills to increase the potential for success in both high school and college. \nWORKSHOPS OFFERED:  \n\nGet Your Life Together – strategies for time management\, organization\, and study skills\nMoney on My Mind – learn to make your money work for you\nDe-Stress the Test – strategies for staying relaxed and successful on big tests\nStick to It – an interactive workshop on perseverance\nPathway to College – learn what you should be doing right now to prepare for college\n\n\nLOCATION:\nRowan-Cabarrus Community College (North Campus – 600 Bldg)\n1333 Jake Alexander Boulevard South\, Salisbury\, NC \nAcademy will be held from 9:30am-11:45am.  \nFollow our signs on campus to Building 600 for student drop-off\, registration\, etc.  \nCheck-in from 9:10am-9:30am. You must stay for the entire Academy and submit an attendance sheet in order to receive credit for this program requirement. The event will conclude at 11:45am. Please pick-up students promptly at the end of Academy. \n\nParents\, please note\, by allowing your student(s) to attend the Crosby Scholars Academy\, you are agreeing to the terms of the Parent Partnership Agreement located in your student’s portal. This agreement will remain in effect for the duration of your student’s participation in the program.  Should you not agree with these terms\, you are required to contact the Executive Director\, Jessica Vess\, before allowing your student to attend the Crosby Scholars Academy. Once your student attends Academy\, the agreement is in effect until the student voluntarily withdraws from the program or does not fulfill a program requirement.\n\nRemember to submit at least 2 hours of community service  for 2019-2020 using this link:  https://forms.gle/tGwHFLKfcWwAhtKL6
URL:https://www.crosbyscholarsrowan.org/event/9th-10th-grade-academy-3/
LOCATION:Rowan-Cabarrus Community College\, 1333 Jake Alexander Blvd S\, Salisbury\, NC\, 28146\, United States
END:VEVENT
BEGIN:VEVENT
DTSTART;TZID=America/New_York:20191119T183000
DTEND;TZID=America/New_York:20191119T193000
DTSTAMP:20260423T152421
CREATED:20191023T155034Z
LAST-MODIFIED:20191023T155235Z
UID:10000820-1574188200-1574191800@www.crosbyscholarsrowan.org
SUMMARY:Online Webinar Academy: Juniors/ Seniors
DESCRIPTION:Scholarships webinar: \nEarning scholarship dollars can help cover the cost of college.  Universities\, non-profit organizations\, private foundations\, and individuals offer students the opportunity to compete for scholarships based on merit\, academic major\, and other criteria.  This academy will help students to recognize legitimate funding sources. \nLearn from a Scholarships Coordinator how to explore ways to research and apply for scholarships\, including\, but not limited to\, scholarship opportunities unique to Crosby Scholars. \nTitle: CSA #10B – Scholarships: An Avenue for Funding for Your College Education \nTime: 6:30-7:30 p.m. \nLocation: This is a webinar – online only! \nSpace is limited only to those who register and the webinar link is not to be shared with anyone. \nThis webinar will require the following: \n\nInternet Connection\nComputer\nEmail address to log in to the presentation\nSpeakers\n\nYou must be able to meet all the above listed criteria to participate in the webinar. If you cannot meet these requirements please do not register to participate in this webinar. You must log in to the webinar on time. You will receive a link and login instructions via email prior to the start of the webinar. \nWe encourage you to watch this webinar a parent with you; however\, your parent cannot earn the CSA credit for you. You must watch this academy to earn a CSA credit. 
URL:https://www.crosbyscholarsrowan.org/event/online-webinar-academy-juniors-seniors/
LOCATION:NC
END:VEVENT
BEGIN:VEVENT
DTSTART;TZID=America/New_York:20191124T140000
DTEND;TZID=America/New_York:20191124T190000
DTSTAMP:20260423T152421
CREATED:20191008T190710Z
LAST-MODIFIED:20191008T190710Z
UID:10001504-1574604000-1574622000@www.crosbyscholarsrowan.org
SUMMARY:Volunteer Opportunity - Girls on the Run
DESCRIPTION:The Girls on the Run 5K\n\n\nEvent Description\n\nGirls on the Run 5K Celebration Volunteer Registration \nThis event will take place at Salisbury Community Park on 935 Hurley School Road Salisbury\, NC. \n\n\n\n\nEvent Details\n\n\nSunday\, November 24\, 2019\n 5K starts at 2:00PM. Arrival time varies per assignment.\n 5K Volunteer locations vary by assignment.\n\n\n\nAll volunteers can use the following link to get signed up: https://www.raceplanner.com/registrationinfo/event/5KVolunteerF19
URL:https://www.crosbyscholarsrowan.org/event/volunteer-opportunity-girls-on-the-run/
LOCATION:NC
END:VEVENT
END:VCALENDAR