BEGIN:VCALENDAR
VERSION:2.0
PRODID:-//Crosby Scholars Rowan - ECPv6.15.13.1//NONSGML v1.0//EN
CALSCALE:GREGORIAN
METHOD:PUBLISH
X-ORIGINAL-URL:https://www.crosbyscholarsrowan.org
X-WR-CALDESC:Events for Crosby Scholars Rowan
REFRESH-INTERVAL;VALUE=DURATION:PT1H
X-Robots-Tag:noindex
X-PUBLISHED-TTL:PT1H
BEGIN:VTIMEZONE
TZID:America/New_York
BEGIN:DAYLIGHT
TZOFFSETFROM:-0500
TZOFFSETTO:-0400
TZNAME:EDT
DTSTART:20180311T070000
END:DAYLIGHT
BEGIN:STANDARD
TZOFFSETFROM:-0400
TZOFFSETTO:-0500
TZNAME:EST
DTSTART:20181104T060000
END:STANDARD
BEGIN:DAYLIGHT
TZOFFSETFROM:-0500
TZOFFSETTO:-0400
TZNAME:EDT
DTSTART:20190310T070000
END:DAYLIGHT
BEGIN:STANDARD
TZOFFSETFROM:-0400
TZOFFSETTO:-0500
TZNAME:EST
DTSTART:20191103T060000
END:STANDARD
BEGIN:DAYLIGHT
TZOFFSETFROM:-0500
TZOFFSETTO:-0400
TZNAME:EDT
DTSTART:20200308T070000
END:DAYLIGHT
BEGIN:STANDARD
TZOFFSETFROM:-0400
TZOFFSETTO:-0500
TZNAME:EST
DTSTART:20201101T060000
END:STANDARD
END:VTIMEZONE
BEGIN:VEVENT
DTSTART;TZID=America/New_York:20191207T090000
DTEND;TZID=America/New_York:20191207T110000
DTSTAMP:20260423T134916
CREATED:20191121T164855Z
LAST-MODIFIED:20191121T164855Z
UID:10000825-1575709200-1575716400@www.crosbyscholarsrowan.org
SUMMARY:Volunteer Opportunity: Breakfast with Santa at St. Johns Lutheran Church
DESCRIPTION:Breakfast with Santa at St. Johns Lutheran Church \nNeeded 3-4 student volunteers to help assist children with simple crafts as they wait to meet with Santa. The event is December 7th\, 2019 from 9:00 am – 11:00 am. \nIf interested please contact Sarah Paynter at spaynter@smartstartrowan.org or call 704-630-9085
URL:https://www.crosbyscholarsrowan.org/event/volunteer-opportunity-breakfast-with-santa-at-st-johns-lutheran-church/
LOCATION:St Johns Lutheran Church\, 200 W. Innes Street\, Salisbury\, NC - North Carolina\, 28144
END:VEVENT
BEGIN:VEVENT
DTSTART;TZID=America/New_York:20191207T093000
DTEND;TZID=America/New_York:20191207T114500
DTSTAMP:20260423T134916
CREATED:20191008T152751Z
LAST-MODIFIED:20191008T153337Z
UID:10001502-1575711000-1575719100@www.crosbyscholarsrowan.org
SUMMARY:9th & 10th Grade Academy - 4
DESCRIPTION:9th/10th Academy – 4 on 12/7/19\nEach Crosby Scholar is required to attend one Crosby Academy per school year. Each student at the 9th/10th Academy can select 2 workshops from a variety of topics that focus on personal and academic skills to increase potential for success in both high school and college. \nWORKSHOPS OFFERED:  \n\nGet Your Life Together – strategies for time management\, organization\, and study skills\nMoney on My Mind – learn to make your money work for you\nDe-Stress the Test – strategies for staying relaxed and successful on big tests\nStick to It – an interactive workshop on perseverance\nPathway to College – learn what you should be doing right now to prepare for college\n\n\nLOCATION:\nRowan-Cabarrus Community College (North Campus – 600 Bldg)\n1333 Jake Alexander Boulevard South\, Salisbury\, NC \nAcademy will be held from 9:30am-11:45am.  \nFollow our signs on campus to Building 600 for student drop-off\, registration\, etc.  \nCheck-in from 9:10am-9:30am. You must stay for the entire Academy and submit an attendance sheet in order to receive credit for this program requirement. The event will conclude at 11:45am. Please pick-up students promptly at the end of Academy. \n\nParents\, please note\, by allowing your student(s) to attend the Crosby Scholars Academy\, you are agreeing to the terms of the Parent Partnership Agreement located in your student’s portal. This agreement will remain in effect for the duration of your student’s participation in the program.  Should you not agree with these terms\, you are required to contact the Executive Director\, Jessica Vess\, before allowing your student to attend the Crosby Scholars Academy. Once your student attends Academy\, the agreement is in effect until the student voluntarily withdraws from the program or does not fulfill a program requirement.\n\nRemember to submit at least 2 hours of community service  for 2019-2020 using this link:  https://forms.gle/tGwHFLKfcWwAhtKL6
URL:https://www.crosbyscholarsrowan.org/event/9th-10th-grade-academy-4/
LOCATION:Rowan-Cabarrus Community College\, 1333 Jake Alexander Blvd S\, Salisbury\, NC\, 28146\, United States
END:VEVENT
BEGIN:VEVENT
DTSTART;TZID=America/New_York:20191207T093000
DTEND;TZID=America/New_York:20191207T114500
DTSTAMP:20260423T134916
CREATED:20191023T160156Z
LAST-MODIFIED:20191023T160156Z
UID:10000821-1575711000-1575719100@www.crosbyscholarsrowan.org
SUMMARY:7th-8th Grade Academy - 4
DESCRIPTION:Attending a Crosby Academy is REQUIRED each year in the Crosby Scholars program. Select the Saturday that works best for you. This Academy will be held at Rowan-Cabarrus Community College in Salisbury in Building 600. Click Register Now to read more about this event. \nEach Crosby Scholar is required to attend one Crosby Academy per school year. \nEach student will participate in 2 workshops that focus on personal and academic skills to increase potential for success in both high school and college.\nLOCATION: \nRowan-Cabarrus Community College (North Campus – 600 Bldg)\n1333 Jake Alexander Boulevard South\, Salisbury\, NC \nAcademy will be held from 9:30am-11:45am. Please eat before you arrive\, NO FOOD will be provided. \nFollow our signs on campus to Building 600 for student drop-off\, registration\, etc.  \nCheck-in from 9:10am-9:30am.  You must stay for the entire Academy and submit an attendance sheet in order to receive credit for this program requirement. The event will conclude at 11:45am. Please pick-up students promptly at the end of Academy. \n\nParents\, please note\, by allowing your student(s) to attend the Crosby Scholars Academy\, you are agreeing to the terms of the Parent Partnership Agreement located in your student’s portal. This agreement will remain in effect for the duration of your student’s participation in the program.  Should you not agree with these terms\, you are required to contact the Executive Director\, Jessica Vess\,  before allowing your student to attend the Crosby Scholars Academy. Once your student attends Academy\, the agreement is in effect until the student voluntarily withdraws from the program or does not fulfill a program requirement.
URL:https://www.crosbyscholarsrowan.org/event/7th-8th-grade-academy-4-2/
LOCATION:Rowan-Cabarrus Community College\, 1333 Jake Alexander Blvd S\, Salisbury\, NC\, 28146\, United States
END:VEVENT
BEGIN:VEVENT
DTSTART;TZID=America/New_York:20191207T093000
DTEND;TZID=America/New_York:20191207T114500
DTSTAMP:20260423T134916
CREATED:20191023T161148Z
LAST-MODIFIED:20191023T161148Z
UID:10000822-1575711000-1575719100@www.crosbyscholarsrowan.org
SUMMARY:Junior Academy - 2
DESCRIPTION:JUNIOR ACADEMY – 1\nSaturday\, 12/7/19\n9:30 am-11:45 am \nPlease register for & attend one Junior Academy. \nEach Crosby Scholar is required to attend one Crosby Academy per school year. \nJUNIOR ACADEMY LOCATION:\nRowan-Cabarrus Community College (Building 600)\n1333 Jake Alexander Blvd. S\nSalisbury\, NC 28146 \nCheck-in from 9:30-9:45 am. You must stay for the entire Academy and submit an evaluation form in order to receive credit for this program requirement. \nParents are also invited to participate in the optional Parent Session. \nNO FOOD WILL BE PROVIDED AT THIS EVENT.
URL:https://www.crosbyscholarsrowan.org/event/junior-academy-2/
LOCATION:NC
END:VEVENT
BEGIN:VEVENT
DTSTART;TZID=America/New_York:20191207T100000
DTEND;TZID=America/New_York:20191207T120000
DTSTAMP:20260423T134916
CREATED:20191203T163531Z
LAST-MODIFIED:20191203T163531Z
UID:10000826-1575712800-1575720000@www.crosbyscholarsrowan.org
SUMMARY:Volunteer Opportunity: Brunch with Santa
DESCRIPTION:The City of Salisbury is offering a volunteer opportunity for Crosby Scholars students.  \nBrunch with Santa \nSaturday\, December 7th 10:00 am-noon \nSalisbury Civic Center \nREGISTER AT: http://www.salisburync.gov/PLAY \n in the search type in Brunch with Santa Crosby Scholars and a list of the upcoming volunteer opportunities should pop up. Select\, add it to the cart and check out! \nMUST REGISTER BY DECEMBER 5th
URL:https://www.crosbyscholarsrowan.org/event/volunteer-opportunity-brunch-with-santa/
LOCATION:NC\, United States
END:VEVENT
BEGIN:VEVENT
DTSTART;TZID=America/New_York:20191214T100000
DTEND;TZID=America/New_York:20191214T130000
DTSTAMP:20260423T134916
CREATED:20191205T161951Z
LAST-MODIFIED:20191205T161951Z
UID:10000827-1576317600-1576328400@www.crosbyscholarsrowan.org
SUMMARY:Volunteer Opportunity: Santa and the Grinch
DESCRIPTION:The City of Salisbury is offering a volunteer opportunity for Crosby Scholars students.  \nSanta and the Grinch \nSaturday\, December 14th 10:00 am- 1:00 pm \nN. Depot and E. Innes Street \nREGISTER AT: http://www.salisburync.gov/PLAY \n in the search type in Santa and the Grinch Crosby Scholars and a list of the upcoming volunteer opportunities should pop up. Select\, add it to the cart and check out! \nMUST REGISTER BY DECEMBER 10th
URL:https://www.crosbyscholarsrowan.org/event/volunteer-opportunity-santa-and-the-grinch/
LOCATION:NC
END:VEVENT
END:VCALENDAR