BEGIN:VCALENDAR
VERSION:2.0
PRODID:-//Crosby Scholars Rowan - ECPv6.15.13.1//NONSGML v1.0//EN
CALSCALE:GREGORIAN
METHOD:PUBLISH
X-WR-CALNAME:Crosby Scholars Rowan
X-ORIGINAL-URL:https://www.crosbyscholarsrowan.org
X-WR-CALDESC:Events for Crosby Scholars Rowan
REFRESH-INTERVAL;VALUE=DURATION:PT1H
X-Robots-Tag:noindex
X-PUBLISHED-TTL:PT1H
BEGIN:VTIMEZONE
TZID:America/New_York
BEGIN:DAYLIGHT
TZOFFSETFROM:-0500
TZOFFSETTO:-0400
TZNAME:EDT
DTSTART:20190310T070000
END:DAYLIGHT
BEGIN:STANDARD
TZOFFSETFROM:-0400
TZOFFSETTO:-0500
TZNAME:EST
DTSTART:20191103T060000
END:STANDARD
BEGIN:DAYLIGHT
TZOFFSETFROM:-0500
TZOFFSETTO:-0400
TZNAME:EDT
DTSTART:20200308T070000
END:DAYLIGHT
BEGIN:STANDARD
TZOFFSETFROM:-0400
TZOFFSETTO:-0500
TZNAME:EST
DTSTART:20201101T060000
END:STANDARD
BEGIN:DAYLIGHT
TZOFFSETFROM:-0500
TZOFFSETTO:-0400
TZNAME:EDT
DTSTART:20210314T070000
END:DAYLIGHT
BEGIN:STANDARD
TZOFFSETFROM:-0400
TZOFFSETTO:-0500
TZNAME:EST
DTSTART:20211107T060000
END:STANDARD
END:VTIMEZONE
BEGIN:VEVENT
DTSTART;TZID=America/New_York:20200201T100000
DTEND;TZID=America/New_York:20200201T120000
DTSTAMP:20260423T104229
CREATED:20200114T202131Z
LAST-MODIFIED:20200114T202131Z
UID:10001521-1580551200-1580558400@www.crosbyscholarsrowan.org
SUMMARY:6th Grade Academy -1
DESCRIPTION:6th Academy – 1 on 02/01/20\nEach Crosby Scholar is required to attend one Crosby Academy per school year.\nEach student at 6th Academy will participate in 2 workshops:\nLearning Styles…find out how you learn\nWords & Mindset…learn the power of your words. \nLOCATION: \nRowan-Cabarrus Community College (North Campus – 600 Bldg)\n1333 Jake Alexander Boulevard South\, Salisbury\, NC \nAcademy will be held from 10:00am-12:00pm. Please eat before you arrive\, NO FOOD will be provided. \nFollow our signs on campus to Building 600 for student drop-off\, registration\, etc.  \nCheck-in from 9:30am-10:00am.  You must stay for the entire Academy and submit an attendance sheet in order to receive credit for this program requirement. The event will conclude at 12:00noon. Please pick-up students promptly at the end of Academy. \n\nParents please note\, by allowing your student(s) to attend the Crosby Scholars Academy\, you are agreeing to the terms of the Parent Partnership Agreement located in your student’s portal. This agreement will remain in effect for the duration of your student’s participation in the program.  Should you not agree with these terms\, you are required to contact the Executive Director\,Jessica Vess\,  before allowing your student to attend the Crosby Scholars Academy. Once your student attends Academy\, the agreement is in effect until the student voluntarily withdraws from the program or does not fulfill a program requirement.
URL:https://www.crosbyscholarsrowan.org/event/6th-grade-academy-1/
LOCATION:Rowan-Cabarrus Community College\, 1333 Jake Alexander Blvd S\, Salisbury\, NC\, 28146\, United States
END:VEVENT
BEGIN:VEVENT
DTSTART;TZID=America/New_York:20200203T180000
DTEND;TZID=America/New_York:20200203T193000
DTSTAMP:20260423T104229
CREATED:20200114T202955Z
LAST-MODIFIED:20200114T202955Z
UID:10001522-1580752800-1580758200@www.crosbyscholarsrowan.org
SUMMARY:Adulting 101- Senior Academy
DESCRIPTION:Juniors and Seniors-  \nYou are invited to learn the skills needed as an adult to interact and have a conversation in an educational\, professional or personal situation. \nYou will receive academy credit for attending and gain life skills to help you become a better communicator. \nThis will be a fun\, interactive\, and engaging academy that will help you develop stronger communication skills. \nA firm handshake\, eye contact\, and the right words to say at the right moment… \nWho doesn’t want to learn how to interact professionally and build their confidence? Join us for an informative and interactive evening and earn academy credit. \nStudents will learn and develop: \n\nSoft skills\nActive listening\nNetworking\, dressing for success\nHow to advocate for yourself\nPhone etiquette (and cell phone usage\, social media repercussions)\nThank yous for scholarships\, recommenders\nNotifying schools that you will not attend
URL:https://www.crosbyscholarsrowan.org/event/adulting-101-senior-academy/
LOCATION:NC
END:VEVENT
BEGIN:VEVENT
DTSTART;TZID=America/New_York:20200208T100000
DTEND;TZID=America/New_York:20200208T120000
DTSTAMP:20260423T104229
CREATED:20200114T203235Z
LAST-MODIFIED:20200114T203235Z
UID:10001523-1581156000-1581163200@www.crosbyscholarsrowan.org
SUMMARY:6th Grade Academy -2
DESCRIPTION:6th Academy – 2 on 02/08/20\nEach Crosby Scholar is required to attend one Crosby Academy per school year.\nEach student at 6th Academy will participate in 2 workshops:\nLearning Styles…find out how you learn\nWords & Mindset…learn the power of your words \nLOCATION: \nRowan-Cabarrus Community College (North Campus – 600 Bldg)\n1333 Jake Alexander Boulevard South\, Salisbury\, NC \nAcademy will be held from 10:00am-12:00pm. Please eat before you arrive\, NO FOOD will be provided. \nFollow our signs on campus to Building 600 for student drop-off\, registration\, etc.  \nCheck-in from 9:30am-10:00am.  You must stay for the entire Academy and submit an attendance sheet in order to receive credit for this program requirement. \nThe event will conclude at 12:00noon. \nPlease pick-up students promptly at the end of Academy. \n\nParents please note\, by allowing your student(s) to attend the Crosby Scholars Academy\, you are agreeing to the terms of the Parent Partnership Agreement located in your student’s portal. This agreement will remain in effect for the duration of your student’s participation in the program.  Should you not agree with these terms\, you are required to contact the Executive Director\,Jessica Vess\,  before allowing your student to attend the Crosby Scholars Academy. Once your student attends Academy\, the agreement is in effect until the student voluntarily withdraws from the program or does not fulfill a program requirement.
URL:https://www.crosbyscholarsrowan.org/event/6th-grade-academy-2/
LOCATION:Rowan-Cabarrus Community College\, 1333 Jake Alexander Blvd S\, Salisbury\, NC\, 28146\, United States
END:VEVENT
BEGIN:VEVENT
DTSTART;TZID=America/New_York:20200211T170000
DTEND;TZID=America/New_York:20200211T183000
DTSTAMP:20260423T104229
CREATED:20200114T203632Z
LAST-MODIFIED:20200114T203632Z
UID:10001524-1581440400-1581445800@www.crosbyscholarsrowan.org
SUMMARY:Award Letter Lab- Senior Academy
DESCRIPTION:Need help comparing your Award Letters from different colleges? \nCome and sit down with Crosby staff and we can point you to excellent resources for comparison and answer questions about the next steps. \nParents welcome to join as well! \nAward Letter and Financial Offers can be confusing!   \nNeed help with the financial aid jargon and how to compare?  Choosing the right school is a big financial commitment\, so know what your schools are actually offering you before you make your final choice. \nCrosby staff will be available to answer questions and provide resources for you. \nPlease bring your laptop and materials you have received from colleges. \nWallace Education Forum
URL:https://www.crosbyscholarsrowan.org/event/award-letter-lab-senior-academy/
LOCATION:Wallace Educational Forum\, 500 N Main Street\, Salisbury\, NC\, 28144\, United States
END:VEVENT
BEGIN:VEVENT
DTSTART;TZID=America/New_York:20200215T083000
DTEND;TZID=America/New_York:20200215T143000
DTSTAMP:20260423T104229
CREATED:20200210T141240Z
LAST-MODIFIED:20200210T141240Z
UID:10001526-1581755400-1581777000@www.crosbyscholarsrowan.org
SUMMARY:Wingate University Tour
DESCRIPTION:Crosby Scholars College Tour to Wingate University–  February 15\, 2020  \nVisiting your possible future home for your next educational journey is an exciting time as you consider where to apply for your collegiate career. \nThe February 15th visit to Wingate University is an opportunity for you to see firsthand the ins and outs of what your collegiate experience can be. Take advantage of this unique chance to dig into\, and unpack\, what it will be like to study\, socialize and relax on your future campus. \nWe will visit this college campus rain or shine!! \n  \n8:30am – DEPART from 725 Jake Alexander Blvd. Salisbury\, NC 28147 \n10:15 am arrive at Wingate University \n10:30-11:30am – Admissions session \n11:30-12:30pm – Campus Tour \n12:30-1:30pm – Lunch \n1:30-2:30pm – Departure and Return to 725 Jake Alexander Blvd. Salisbury\, NC 28147 \nOnce you register for this campus visit\, a permission slip will be emailed to you. It must be returned to our office by Monday. February 10th.
URL:https://www.crosbyscholarsrowan.org/event/wingate-university-tour/
LOCATION:NC
END:VEVENT
BEGIN:VEVENT
DTSTART;TZID=America/New_York:20200222T053000
DTEND;TZID=America/New_York:20200222T113000
DTSTAMP:20260423T104229
CREATED:20191219T215413Z
LAST-MODIFIED:20191219T215413Z
UID:10000828-1582349400-1582371000@www.crosbyscholarsrowan.org
SUMMARY:Volunteer Opportunity: Allstate Hot Chocolate 15k/5k benefitting Make-A-Wish
DESCRIPTION:Event: Allstate Hot Chocolate 15k/5k benefitting Make-A-Wish \nWhere: First Ward Park \nDate: Saturday\, February 22nd \nTime: 5:30 am – 11:30 am \n\nVolunteer Responsibilities: Volunteers will be stationed at the Finish Line passing out medals to the race participants at the finish of their 15k race or (new this year) their 5k race. ALL runners receive medals this year! Before the race\, volunteers will prep all the medals for easy and quick distribution. 15k finishers will have a BROWN bib and 5k Finishers will have a BLUE bib that determines which medal they receive. \n\nWe welcome all volunteers over the age of 14!! Please share with your friends\, family\, neighbors- EVERYONE! And come out for a great morning!! Volunteers will also receive some tasty treats. \n\nAll volunteers must register using this link!!
URL:https://www.crosbyscholarsrowan.org/event/volunteer-opportunity-allstate-hot-chocolate-15k-5k-benefitting-make-a-wish/
LOCATION:NC
END:VEVENT
BEGIN:VEVENT
DTSTART;TZID=America/New_York:20200222T100000
DTEND;TZID=America/New_York:20200222T120000
DTSTAMP:20260423T104229
CREATED:20200114T203851Z
LAST-MODIFIED:20200114T203851Z
UID:10001525-1582365600-1582372800@www.crosbyscholarsrowan.org
SUMMARY:6th Grade Academy -3
DESCRIPTION:6th Academy – 3 on 02/22/20\nEach Crosby Scholar is required to attend one Crosby Academy per school year.\nEach student at 6th Academy will participate in 2 workshops:\nLearning Styles…find out how you learn\nWords & Mindset…learn the power of your words \nLOCATION: \nRowan-Cabarrus Community College (North Campus – 600 Bldg)\n1333 Jake Alexander Boulevard South\, Salisbury\, NC \nAcademy will be held from 10:00am-12:00pm. Please eat before you arrive\, NO FOOD will be provided. \nFollow our signs on campus to Building 600 for student drop-off\, registration\, etc.  \nCheck-in from 9:30am-10:00am. \nYou must stay for the entire Academy and submit an attendance sheet in order to receive credit for this program requirement. \nThe event will conclude at 12:00noon. Please pick-up students promptly at the end of Academy. \n\nParents please note\, by allowing your student(s) to attend the Crosby Scholars Academy\, you are agreeing to the terms of the Parent Partnership Agreement located in your student’s portal. This agreement will remain in effect for the duration of your student’s participation in the program.  Should you not agree with these terms\, you are required to contact the Executive Director\,Jessica Vess\,  before allowing your student to attend the Crosby Scholars Academy. Once your student attends Academy\, the agreement is in effect until the student voluntarily withdraws from the program or does not fulfill a program requirement.
URL:https://www.crosbyscholarsrowan.org/event/6th-grade-academy-3/
LOCATION:Rowan-Cabarrus Community College\, 1333 Jake Alexander Blvd S\, Salisbury\, NC\, 28146\, United States
END:VEVENT
END:VCALENDAR