BEGIN:VCALENDAR
VERSION:2.0
PRODID:-//Crosby Scholars Rowan - ECPv6.15.13.1//NONSGML v1.0//EN
CALSCALE:GREGORIAN
METHOD:PUBLISH
X-WR-CALNAME:Crosby Scholars Rowan
X-ORIGINAL-URL:https://www.crosbyscholarsrowan.org
X-WR-CALDESC:Events for Crosby Scholars Rowan
REFRESH-INTERVAL;VALUE=DURATION:PT1H
X-Robots-Tag:noindex
X-PUBLISHED-TTL:PT1H
BEGIN:VTIMEZONE
TZID:America/New_York
BEGIN:DAYLIGHT
TZOFFSETFROM:-0500
TZOFFSETTO:-0400
TZNAME:EDT
DTSTART:20190310T070000
END:DAYLIGHT
BEGIN:STANDARD
TZOFFSETFROM:-0400
TZOFFSETTO:-0500
TZNAME:EST
DTSTART:20191103T060000
END:STANDARD
BEGIN:DAYLIGHT
TZOFFSETFROM:-0500
TZOFFSETTO:-0400
TZNAME:EDT
DTSTART:20200308T070000
END:DAYLIGHT
BEGIN:STANDARD
TZOFFSETFROM:-0400
TZOFFSETTO:-0500
TZNAME:EST
DTSTART:20201101T060000
END:STANDARD
BEGIN:DAYLIGHT
TZOFFSETFROM:-0500
TZOFFSETTO:-0400
TZNAME:EDT
DTSTART:20210314T070000
END:DAYLIGHT
BEGIN:STANDARD
TZOFFSETFROM:-0400
TZOFFSETTO:-0500
TZNAME:EST
DTSTART:20211107T060000
END:STANDARD
END:VTIMEZONE
BEGIN:VEVENT
DTSTART;TZID=America/New_York:20200303T180000
DTEND;TZID=America/New_York:20200303T200000
DTSTAMP:20260423T091507
CREATED:20200210T141931Z
LAST-MODIFIED:20200210T141931Z
UID:10000829-1583258400-1583265600@www.crosbyscholarsrowan.org
SUMMARY:Medical Profession Symposium
DESCRIPTION:Crosby Scholars is proud to offer a Medical Profession Symposium for students who are considering a degree and career in the healthcare or medical industry. \nStudents will learn about different programs and degrees offered at various regional colleges and universities. The symposium will include a brief panel to discuss various career paths based on their programs.  Representatives will then be available to answer questions and provide information. Come out and learn about the many career opportunities in the fields of Medical Assisting\, Nursing\, Pharmacy\, Dental Hygiene\, Physical Therapy and many more. \nEvent will be held at the Wallace Educational Forum Administrative Building (500 N. Main Street\, Salisbury\, NC)  on Tuesday\, March 3rd from 6:00-8:00pm. \n*Parents are welcomed and encouraged to attend. \n**Academy credit will be given AND you will receive credit for College Fair/Tour requirement if you need it!!! \n 
URL:https://www.crosbyscholarsrowan.org/event/medical-profession-symposium/
LOCATION:Wallace Educational Forum\, 500 N Main Street\, Salisbury\, NC\, 28144\, United States
END:VEVENT
END:VCALENDAR