BEGIN:VCALENDAR
VERSION:2.0
PRODID:-//Crosby Scholars Rowan - ECPv6.15.13.1//NONSGML v1.0//EN
CALSCALE:GREGORIAN
METHOD:PUBLISH
X-ORIGINAL-URL:https://www.crosbyscholarsrowan.org
X-WR-CALDESC:Events for Crosby Scholars Rowan
REFRESH-INTERVAL;VALUE=DURATION:PT1H
X-Robots-Tag:noindex
X-PUBLISHED-TTL:PT1H
BEGIN:VTIMEZONE
TZID:America/New_York
BEGIN:DAYLIGHT
TZOFFSETFROM:-0500
TZOFFSETTO:-0400
TZNAME:EDT
DTSTART:20190310T070000
END:DAYLIGHT
BEGIN:STANDARD
TZOFFSETFROM:-0400
TZOFFSETTO:-0500
TZNAME:EST
DTSTART:20191103T060000
END:STANDARD
BEGIN:DAYLIGHT
TZOFFSETFROM:-0500
TZOFFSETTO:-0400
TZNAME:EDT
DTSTART:20200308T070000
END:DAYLIGHT
BEGIN:STANDARD
TZOFFSETFROM:-0400
TZOFFSETTO:-0500
TZNAME:EST
DTSTART:20201101T060000
END:STANDARD
BEGIN:DAYLIGHT
TZOFFSETFROM:-0500
TZOFFSETTO:-0400
TZNAME:EDT
DTSTART:20210314T070000
END:DAYLIGHT
BEGIN:STANDARD
TZOFFSETFROM:-0400
TZOFFSETTO:-0500
TZNAME:EST
DTSTART:20211107T060000
END:STANDARD
END:VTIMEZONE
BEGIN:VEVENT
DTSTART;TZID=America/New_York:20200416T180000
DTEND;TZID=America/New_York:20200416T190000
DTSTAMP:20260423T072943
CREATED:20200416T164530Z
LAST-MODIFIED:20200416T164530Z
UID:10000830-1587060000-1587063600@www.crosbyscholarsrowan.org
SUMMARY:Virtual Senior Academy: Understanding Financial Aid Award Letters
DESCRIPTION:Are you currently weighing your options after receiving award letters from multiple colleges? Need help understanding financial aid offer terms? \nCrosby Scholars will host an “Understanding Financial Aid Award Letter” webinar academy on Thursday\, April 16th from 6pm-7pm. The webinar will be presented by College Foundation of NC (CFNC). This webinar will cover information pertaining to Financial Aid\, understanding Financial Aid offer terms\, what happens after you accept a student loan\, discussing family income changes after offers have been given\, and addressing any other questions or concerns you may have about the process. Please find the login information below for the webinar. \nWhen it’s time\, join your Webex meeting here: \n<https://cfi.webex.com/cfi/j.php?MTID=m996d301bec0dbf7208cebee7b4762b6f>  \nMeeting number (access code): 472 445 230  \nMeeting password: ZnTyRmMM568 
URL:https://www.crosbyscholarsrowan.org/event/virtual-senior-academy-understanding-financial-aid-award-letters/
LOCATION:NC
END:VEVENT
BEGIN:VEVENT
DTSTART;TZID=America/New_York:20200422T180000
DTEND;TZID=America/New_York:20200422T190000
DTSTAMP:20260423T072943
CREATED:20200422T184451Z
LAST-MODIFIED:20200422T185418Z
UID:10000831-1587578400-1587582000@www.crosbyscholarsrowan.org
SUMMARY:Think Like a Senior - Virtual Academy
DESCRIPTION:Crosby Scholars will host a virtual Think Like a Senior Academy for the class of 2021 on Wednesday\, April 22 @ 6 pm. \nThis new academy is highly recommended. Think Like a Senior – start your summer off with steps in the right direction. We will discuss how to create a target list of schools\, outline how to maximize your summer\, and map out a successful senior journey. \nBe prepared for an interactive academy where our team will be available to answer all the questions you may have regarding your transition from high school to college. \nWebinar login information will be sent to you after you register online in your Crosby portal! \n*Students will receive senior year academy credit for participating in this webinar* \n 
URL:https://www.crosbyscholarsrowan.org/event/think-like-a-senior-virtual-academy/2020-04-22/
LOCATION:NC
END:VEVENT
BEGIN:VEVENT
DTSTART;TZID=America/New_York:20200428T140000
DTEND;TZID=America/New_York:20200428T150000
DTSTAMP:20260423T072943
CREATED:20200422T184813Z
LAST-MODIFIED:20200422T185129Z
UID:10000833-1588082400-1588086000@www.crosbyscholarsrowan.org
SUMMARY:Mandatory Rising Senior Webinar (2)
DESCRIPTION:All Juniors are required to attend one Rising Senior Meeting this spring. The purpose of this webinar is to review the Senior Program\, its requirements\, and how to maximize your summer. Come out and learn how Crosby Scholars will help guide you through the college admissions process\, FAFSA process\, and support you in making the BIG decision. \nTo help parents/guardians understand and support the Program’s role in the college admission process\, we encourage you to invite your parents/guardians to participate in the webinar as well. However\, a parent may not participate in the Mandatory Rising Senior webinar in place of a student. \nScholars must register in the Crosby portal to gain access to the Zoom meeting login. Then students must be sure to sign in on time and participate in the entire meeting. Attendance credit is awarded to scholars when they complete their Exit Survey at the end of the meeting. This is a program requirement. Juniors who do not meet this requirement will be dismissed and will not be eligible to participate in the Crosby Scholars Program during their senior year.
URL:https://www.crosbyscholarsrowan.org/event/mandatory-rising-senior-webinar/
LOCATION:NC
END:VEVENT
BEGIN:VEVENT
DTSTART;TZID=America/New_York:20200430T100000
DTEND;TZID=America/New_York:20200430T110000
DTSTAMP:20260423T072943
CREATED:20200422T184932Z
LAST-MODIFIED:20200422T185151Z
UID:10000834-1588240800-1588244400@www.crosbyscholarsrowan.org
SUMMARY:Mandatory Rising Senior Webinar (3)
DESCRIPTION:All Juniors are required to attend one Rising Senior Meeting this spring. The purpose of this webinar is to review the Senior Program\, its requirements\, and how to maximize your summer. Come out and learn how Crosby Scholars will help guide you through the college admissions process\, FAFSA process\, and support you in making the BIG decision. \nTo help parents/guardians understand and support the Program’s role in the college admission process\, we encourage you to invite your parents/guardians to participate in the webinar as well. However\, a parent may not participate in the Mandatory Rising Senior webinar in place of a student. \nScholars must register in the Crosby portal to gain access to the Zoom meeting login. Then students must be sure to sign in on time and participate in the entire meeting. Attendance credit is awarded to scholars when they complete their Exit Survey at the end of the meeting. This is a program requirement. Juniors who do not meet this requirement will be dismissed and will not be eligible to participate in the Crosby Scholars Program during their senior year.
URL:https://www.crosbyscholarsrowan.org/event/mandatory-rising-senior-webinar-copy/
LOCATION:NC
END:VEVENT
END:VCALENDAR