BEGIN:VCALENDAR
VERSION:2.0
PRODID:-//Crosby Scholars Rowan - ECPv6.15.13.1//NONSGML v1.0//EN
CALSCALE:GREGORIAN
METHOD:PUBLISH
X-WR-CALNAME:Crosby Scholars Rowan
X-ORIGINAL-URL:https://www.crosbyscholarsrowan.org
X-WR-CALDESC:Events for Crosby Scholars Rowan
REFRESH-INTERVAL;VALUE=DURATION:PT1H
X-Robots-Tag:noindex
X-PUBLISHED-TTL:PT1H
BEGIN:VTIMEZONE
TZID:America/New_York
BEGIN:DAYLIGHT
TZOFFSETFROM:-0500
TZOFFSETTO:-0400
TZNAME:EDT
DTSTART:20190310T070000
END:DAYLIGHT
BEGIN:STANDARD
TZOFFSETFROM:-0400
TZOFFSETTO:-0500
TZNAME:EST
DTSTART:20191103T060000
END:STANDARD
BEGIN:DAYLIGHT
TZOFFSETFROM:-0500
TZOFFSETTO:-0400
TZNAME:EDT
DTSTART:20200308T070000
END:DAYLIGHT
BEGIN:STANDARD
TZOFFSETFROM:-0400
TZOFFSETTO:-0500
TZNAME:EST
DTSTART:20201101T060000
END:STANDARD
BEGIN:DAYLIGHT
TZOFFSETFROM:-0500
TZOFFSETTO:-0400
TZNAME:EDT
DTSTART:20210314T070000
END:DAYLIGHT
BEGIN:STANDARD
TZOFFSETFROM:-0400
TZOFFSETTO:-0500
TZNAME:EST
DTSTART:20211107T060000
END:STANDARD
END:VTIMEZONE
BEGIN:VEVENT
DTSTART;TZID=America/New_York:20200707T190000
DTEND;TZID=America/New_York:20200707T200000
DTSTAMP:20260423T023941
CREATED:20200605T200523Z
LAST-MODIFIED:20200605T200523Z
UID:10000839-1594148400-1594152000@www.crosbyscholarsrowan.org
SUMMARY:Common Application Senior Academy
DESCRIPTION:This academy will be hosted as a Zoom webinar and will count towards your 2020-2021 school year academy requirement. \nWe will introduce students to the Common Application process and detail the changes to the application based around Covid-19. This academy is designed to prepare students for the fall application process. \nSign up in your student portal and a link will be provided to attend. \n 
URL:https://www.crosbyscholarsrowan.org/event/common-application-senior-academy/
LOCATION:NC
END:VEVENT
BEGIN:VEVENT
DTSTART;TZID=America/New_York:20200709T140000
DTEND;TZID=America/New_York:20200709T150000
DTSTAMP:20260423T023941
CREATED:20200605T201042Z
LAST-MODIFIED:20200605T201042Z
UID:10001527-1594303200-1594306800@www.crosbyscholarsrowan.org
SUMMARY:Scholarship Academy
DESCRIPTION:This academy will be hosted as a Zoom webinar and will count towards your 2020-2021 school year academy requirement. \nThis academy is designed to help you search for scholarships\, manage applications\, and introduce you to many scholarship options and databases. \nCrosby staff will teach you how to plan a strategic scholarship search and introduce you to various opportunities. We will also share scholarship tips and writing techniques that will help you highlight your strengths and appeal to the scholarship committee. After this academy\, students will feel confident in the scholarship search and process. \nSign up in your student portal and a link will be provided to attend.
URL:https://www.crosbyscholarsrowan.org/event/scholarship-academy/
LOCATION:NC
END:VEVENT
END:VCALENDAR