BEGIN:VCALENDAR
VERSION:2.0
PRODID:-//Crosby Scholars Rowan - ECPv6.15.13.1//NONSGML v1.0//EN
CALSCALE:GREGORIAN
METHOD:PUBLISH
X-WR-CALNAME:Crosby Scholars Rowan
X-ORIGINAL-URL:https://www.crosbyscholarsrowan.org
X-WR-CALDESC:Events for Crosby Scholars Rowan
REFRESH-INTERVAL;VALUE=DURATION:PT1H
X-Robots-Tag:noindex
X-PUBLISHED-TTL:PT1H
BEGIN:VTIMEZONE
TZID:America/New_York
BEGIN:DAYLIGHT
TZOFFSETFROM:-0500
TZOFFSETTO:-0400
TZNAME:EDT
DTSTART:20190310T070000
END:DAYLIGHT
BEGIN:STANDARD
TZOFFSETFROM:-0400
TZOFFSETTO:-0500
TZNAME:EST
DTSTART:20191103T060000
END:STANDARD
BEGIN:DAYLIGHT
TZOFFSETFROM:-0500
TZOFFSETTO:-0400
TZNAME:EDT
DTSTART:20200308T070000
END:DAYLIGHT
BEGIN:STANDARD
TZOFFSETFROM:-0400
TZOFFSETTO:-0500
TZNAME:EST
DTSTART:20201101T060000
END:STANDARD
BEGIN:DAYLIGHT
TZOFFSETFROM:-0500
TZOFFSETTO:-0400
TZNAME:EDT
DTSTART:20210314T070000
END:DAYLIGHT
BEGIN:STANDARD
TZOFFSETFROM:-0400
TZOFFSETTO:-0500
TZNAME:EST
DTSTART:20211107T060000
END:STANDARD
END:VTIMEZONE
BEGIN:VEVENT
DTSTART;TZID=America/New_York:20200822T140000
DTEND;TZID=America/New_York:20200822T150000
DTSTAMP:20260423T005959
CREATED:20200820T203828Z
LAST-MODIFIED:20200820T203828Z
UID:10001528-1598104800-1598108400@www.crosbyscholarsrowan.org
SUMMARY:College Applications 101
DESCRIPTION:Crosby Scholars will host an Applications 101 academy on Saturday\, August 22nd from 2-3pm. We will discuss how to start the college application process and the many components required to complete them. Students will learn how to use these applications as extended resumes to detail their accomplishments and qualities. Students will also be introduced to the NC Free College Application week.
URL:https://www.crosbyscholarsrowan.org/event/college-applications-101/
LOCATION:On-line Academy
END:VEVENT
BEGIN:VEVENT
DTSTART;TZID=America/New_York:20200826T180000
DTEND;TZID=America/New_York:20200826T190000
DTSTAMP:20260423T005959
CREATED:20200821T181209Z
LAST-MODIFIED:20200821T181209Z
UID:10001529-1598464800-1598468400@www.crosbyscholarsrowan.org
SUMMARY:Lenoir-Rhyne University Information Session
DESCRIPTION:Crosby Scholars will host Lenior-Rhyne University for an information session on Wednesday\, August 26th at 6pm. Please join us to learn more about this amazing institution! \nSign up in your student portal for a ZOOM link!
URL:https://www.crosbyscholarsrowan.org/event/lenoir-rhyne-university-information-session/
LOCATION:On-line Academy
END:VEVENT
END:VCALENDAR