BEGIN:VCALENDAR
VERSION:2.0
PRODID:-//Crosby Scholars Rowan - ECPv6.15.13.1//NONSGML v1.0//EN
CALSCALE:GREGORIAN
METHOD:PUBLISH
X-WR-CALNAME:Crosby Scholars Rowan
X-ORIGINAL-URL:https://www.crosbyscholarsrowan.org
X-WR-CALDESC:Events for Crosby Scholars Rowan
REFRESH-INTERVAL;VALUE=DURATION:PT1H
X-Robots-Tag:noindex
X-PUBLISHED-TTL:PT1H
BEGIN:VTIMEZONE
TZID:America/New_York
BEGIN:DAYLIGHT
TZOFFSETFROM:-0500
TZOFFSETTO:-0400
TZNAME:EDT
DTSTART:20190310T070000
END:DAYLIGHT
BEGIN:STANDARD
TZOFFSETFROM:-0400
TZOFFSETTO:-0500
TZNAME:EST
DTSTART:20191103T060000
END:STANDARD
BEGIN:DAYLIGHT
TZOFFSETFROM:-0500
TZOFFSETTO:-0400
TZNAME:EDT
DTSTART:20200308T070000
END:DAYLIGHT
BEGIN:STANDARD
TZOFFSETFROM:-0400
TZOFFSETTO:-0500
TZNAME:EST
DTSTART:20201101T060000
END:STANDARD
BEGIN:DAYLIGHT
TZOFFSETFROM:-0500
TZOFFSETTO:-0400
TZNAME:EDT
DTSTART:20210314T070000
END:DAYLIGHT
BEGIN:STANDARD
TZOFFSETFROM:-0400
TZOFFSETTO:-0500
TZNAME:EST
DTSTART:20211107T060000
END:STANDARD
END:VTIMEZONE
BEGIN:VEVENT
DTSTART;TZID=America/New_York:20200902T120000
DTEND;TZID=America/New_York:20200902T124500
DTSTAMP:20260422T232550
CREATED:20200821T181754Z
LAST-MODIFIED:20200821T181754Z
UID:10001531-1599048000-1599050700@www.crosbyscholarsrowan.org
SUMMARY:7th Grade Virtual Academy-12:00pm
DESCRIPTION:Virtual 7th GRADE Academy via Zoom!\nTopics will be: \nTearing Off Labels…becoming aware of labels others & yourself \nSuccess in School…discover helpful tools for the classroom \n\nPlease reply to the email with Zoom link to register.
URL:https://www.crosbyscholarsrowan.org/event/7th-grade-virtual-academy-1200pm/
LOCATION:On-line Academy
END:VEVENT
BEGIN:VEVENT
DTSTART;TZID=America/New_York:20200902T180000
DTEND;TZID=America/New_York:20200902T190000
DTSTAMP:20260422T232550
CREATED:20200821T181406Z
LAST-MODIFIED:20200821T181406Z
UID:10001530-1599069600-1599073200@www.crosbyscholarsrowan.org
SUMMARY:Appalachian State University Information Session
DESCRIPTION:Crosby Scholars will host Appalachian State University for an information session on Wednesday\, September 2nd at 6:00 pm. \nPlease join us to learn more about this amazing institution! \nSign up in your student portal for a ZOOM link!
URL:https://www.crosbyscholarsrowan.org/event/appalachian-state-university-information-session/
LOCATION:On-line Academy
END:VEVENT
BEGIN:VEVENT
DTSTART;TZID=America/New_York:20200903T180000
DTEND;TZID=America/New_York:20200903T190000
DTSTAMP:20260422T232550
CREATED:20200827T145539Z
LAST-MODIFIED:20200827T150313Z
UID:10001532-1599156000-1599159600@www.crosbyscholarsrowan.org
SUMMARY:Guilford College Information Session
DESCRIPTION:Guilford College \nCrosby Scholars will host Guilford College for an information session on Thursday\, September 3rd at 6:00 pm. Please join us to learn more about this amazing institution! \nRegister in your student portal for a ZOOM link!
URL:https://www.crosbyscholarsrowan.org/event/4416/
LOCATION:On-line Academy
END:VEVENT
BEGIN:VEVENT
DTSTART;TZID=America/New_York:20200905T140000
DTEND;TZID=America/New_York:20200905T150000
DTSTAMP:20260422T232550
CREATED:20200827T150615Z
LAST-MODIFIED:20200827T150615Z
UID:10001533-1599314400-1599318000@www.crosbyscholarsrowan.org
SUMMARY:High School 101 Academy
DESCRIPTION:High School 101 Academy \nSaturday\, September 5th from 2:00 -3:00 pm \nStudents will learn more about Career and College Promise\, the importance of a Grade Point Average\, and how to excel in high school. Students will also be introduced to the many resources made available to them through Crosby Scholars to assist with their preparation for college. \nRegister in your student portal for ZOOM link!
URL:https://www.crosbyscholarsrowan.org/event/high-school-101-academy/
LOCATION:On-line Academy
END:VEVENT
BEGIN:VEVENT
DTSTART;TZID=America/New_York:20200908T080000
DTEND;TZID=America/New_York:20201031T170000
DTSTAMP:20260422T232550
CREATED:20200908T171315Z
LAST-MODIFIED:20200909T140814Z
UID:10001544-1599552000-1604163600@www.crosbyscholarsrowan.org
SUMMARY:High School Community Service
DESCRIPTION:Volunteer Opportunity: SENIORS – \nPOWER CROSS MINISTRIES is in need of VOLUNTEERS. Help with coaching or tutoring boys ages 2nd – 6th grade. Coaching would include football\, basketball\, and baseball. Visit their website for further information. \nhttps://www.powercross.org/volunteer
URL:https://www.crosbyscholarsrowan.org/event/high-school-community-service/
LOCATION:NC
END:VEVENT
BEGIN:VEVENT
DTSTART;TZID=America/New_York:20200909T180000
DTEND;TZID=America/New_York:20200909T190000
DTSTAMP:20260422T232550
CREATED:20200827T151525Z
LAST-MODIFIED:20200827T151525Z
UID:10001534-1599674400-1599678000@www.crosbyscholarsrowan.org
SUMMARY:Virtual College Tour Academy (Juniors/Seniors)
DESCRIPTION: Virtual College Tour Academy \nWednesday\, September 9th from 6:00 -7:00 pm \nStudents will explore the many online college tour options and be introduced to several local institutions throughout the state. Your presenter will share several websites and interactive platforms to support your college search. Students should come prepared to take notes and ask questions! \nRegister in your student portal for ZOOM link!
URL:https://www.crosbyscholarsrowan.org/event/virtual-college-tour-academy-juniors-seniors/
LOCATION:On-line Academy
END:VEVENT
BEGIN:VEVENT
DTSTART;TZID=America/New_York:20200917T180000
DTEND;TZID=America/New_York:20200917T190000
DTSTAMP:20260422T232550
CREATED:20200827T151747Z
LAST-MODIFIED:20200827T151747Z
UID:10001535-1600365600-1600369200@www.crosbyscholarsrowan.org
SUMMARY:FAFSA Academy (Seniors)
DESCRIPTION:Crosby Scholars will host a FAFSA webinar on \nThursday\, September 17th from 6:00 -7:00 pm \nThis webinar will be led by Timeka Ruffun (CFNC Regional Representative) and will include important information about the NC Residency Determination Service and FSA ID. \nParticipants will be provided with a list of FAFSA support locations in the Rowan community.
URL:https://www.crosbyscholarsrowan.org/event/fafsa-academy-seniors/
LOCATION:On-line Academy
END:VEVENT
BEGIN:VEVENT
DTSTART;TZID=America/New_York:20200919T140000
DTEND;TZID=America/New_York:20200919T150000
DTSTAMP:20260422T232550
CREATED:20200904T155245Z
LAST-MODIFIED:20200904T155245Z
UID:10001536-1600524000-1600527600@www.crosbyscholarsrowan.org
SUMMARY:Writing College Essays
DESCRIPTION:Crosby Scholars will host an Essay Writing Academy for juniors and seniors \nSaturday\, September 19th at 2 pm \nThis academy will be led by Dr. Jenny Billings – English Department Chair at Rowan-Cabarrus Community College. Dr. Billings will provide students with the guidance needed to start the essay writing process. \nStudents should be prepared to take notes and ask questions. \nRegister in your student portal for access to the ZOOM link!
URL:https://www.crosbyscholarsrowan.org/event/writing-college-essays/
LOCATION:On-line Academy
END:VEVENT
BEGIN:VEVENT
DTSTART;TZID=America/New_York:20200923T180000
DTEND;TZID=America/New_York:20200923T190000
DTSTAMP:20260422T232550
CREATED:20200904T155621Z
LAST-MODIFIED:20200904T155621Z
UID:10001537-1600884000-1600887600@www.crosbyscholarsrowan.org
SUMMARY:Career and College Promise Information Session
DESCRIPTION:Career and College Promise Information Session \nWednesday\, September 23rd\, 6-7 pm \nCrosby Scholars will host a Career and College Promise (CCP) Virtual information Session on Sept. 23rd. This session will be led by a CCP representative\, so be sure to bring all your questions. Students will learn more about program requirements\, offerings\, and how to register. \nParents are encouraged to participate as well. \n 
URL:https://www.crosbyscholarsrowan.org/event/career-and-college-promise-information-session/
LOCATION:On-line Academy
END:VEVENT
BEGIN:VEVENT
DTSTART;TZID=America/New_York:20200930T180000
DTEND;TZID=America/New_York:20200930T190000
DTSTAMP:20260422T232550
CREATED:20200904T155819Z
LAST-MODIFIED:20200904T155819Z
UID:10001538-1601488800-1601492400@www.crosbyscholarsrowan.org
SUMMARY:Career Exploration Academy
DESCRIPTION:Career Exploration Academy \nSeptember 30th\, 6:00 pm \nCrosby Scholars will host a Career Exploration Academy on Wednesday\, September 30th from 6-7pm. This academy was created to introduce students to careers\, career pathways\, and the resources needed to further explore their options. Students will learn how to align their passion with careers and be encouraged to ask questions and share their career plans.
URL:https://www.crosbyscholarsrowan.org/event/career-exploration-academy/
LOCATION:On-line Academy
END:VEVENT
END:VCALENDAR