BEGIN:VCALENDAR
VERSION:2.0
PRODID:-//Crosby Scholars Rowan - ECPv6.15.13.1//NONSGML v1.0//EN
CALSCALE:GREGORIAN
METHOD:PUBLISH
X-ORIGINAL-URL:https://www.crosbyscholarsrowan.org
X-WR-CALDESC:Events for Crosby Scholars Rowan
REFRESH-INTERVAL;VALUE=DURATION:PT1H
X-Robots-Tag:noindex
X-PUBLISHED-TTL:PT1H
BEGIN:VTIMEZONE
TZID:America/New_York
BEGIN:DAYLIGHT
TZOFFSETFROM:-0500
TZOFFSETTO:-0400
TZNAME:EDT
DTSTART:20190310T070000
END:DAYLIGHT
BEGIN:STANDARD
TZOFFSETFROM:-0400
TZOFFSETTO:-0500
TZNAME:EST
DTSTART:20191103T060000
END:STANDARD
BEGIN:DAYLIGHT
TZOFFSETFROM:-0500
TZOFFSETTO:-0400
TZNAME:EDT
DTSTART:20200308T070000
END:DAYLIGHT
BEGIN:STANDARD
TZOFFSETFROM:-0400
TZOFFSETTO:-0500
TZNAME:EST
DTSTART:20201101T060000
END:STANDARD
BEGIN:DAYLIGHT
TZOFFSETFROM:-0500
TZOFFSETTO:-0400
TZNAME:EDT
DTSTART:20210314T070000
END:DAYLIGHT
BEGIN:STANDARD
TZOFFSETFROM:-0400
TZOFFSETTO:-0500
TZNAME:EST
DTSTART:20211107T060000
END:STANDARD
END:VTIMEZONE
BEGIN:VEVENT
DTSTART;TZID=America/New_York:20200908T080000
DTEND;TZID=America/New_York:20201031T170000
DTSTAMP:20260422T215618
CREATED:20200908T171315Z
LAST-MODIFIED:20200909T140814Z
UID:10001544-1599552000-1604163600@www.crosbyscholarsrowan.org
SUMMARY:High School Community Service
DESCRIPTION:Volunteer Opportunity: SENIORS – \nPOWER CROSS MINISTRIES is in need of VOLUNTEERS. Help with coaching or tutoring boys ages 2nd – 6th grade. Coaching would include football\, basketball\, and baseball. Visit their website for further information. \nhttps://www.powercross.org/volunteer
URL:https://www.crosbyscholarsrowan.org/event/high-school-community-service/
LOCATION:NC
END:VEVENT
BEGIN:VEVENT
DTSTART;TZID=America/New_York:20201006T180000
DTEND;TZID=America/New_York:20201006T190000
DTSTAMP:20260422T215618
CREATED:20200904T160036Z
LAST-MODIFIED:20200904T160036Z
UID:10001539-1602007200-1602010800@www.crosbyscholarsrowan.org
SUMMARY:Creating your College List (Junior Academy)
DESCRIPTION:Looking for potential colleges is a daunting task\, especially with so many options and details to consider. Several factors come into play such as tuition\, location\, internships\, majors\, program strength\, atmosphere\, and so on. \nCrosby Scholars will host a College List academy to assist Juniors in finding their college needs and create a list of at least 9 potential institutions. Students will be introduced to college search tools and gain a clearer picture of what it is they should look for in a school. Our presenters will talk about tuition\, location\, campus culture\, and share valuable tips related to an effective college search. \nRegister in your student portal to access the ZOOM link!
URL:https://www.crosbyscholarsrowan.org/event/creating-your-college-list-junior-academy/
LOCATION:On-line Academy
END:VEVENT
BEGIN:VEVENT
DTSTART;TZID=America/New_York:20201007T120000
DTEND;TZID=America/New_York:20201007T124500
DTSTAMP:20260422T215618
CREATED:20200904T161906Z
LAST-MODIFIED:20200904T161906Z
UID:10001541-1602072000-1602074700@www.crosbyscholarsrowan.org
SUMMARY:8th Grade Virtual Academy -12:00pm
DESCRIPTION:Eighth Graders\, join us as we focus on  Necessary Failure and High School Ready. We will talk about the importance of GPA’s and what it looks like to GET BACK UP when you fall down. \nRegister in your student portal and an email link will be sent to you! \n 
URL:https://www.crosbyscholarsrowan.org/event/8th-grade-virtual-academy-1200pm/
LOCATION:On-line Academy
END:VEVENT
BEGIN:VEVENT
DTSTART;TZID=America/New_York:20201007T180000
DTEND;TZID=America/New_York:20201007T184500
DTSTAMP:20260422T215618
CREATED:20200904T160410Z
LAST-MODIFIED:20200904T160410Z
UID:10001540-1602093600-1602096300@www.crosbyscholarsrowan.org
SUMMARY:7th Grade Virtual Academy-6:00pm
DESCRIPTION:Virtual 7th GRADE Academy via Zoom!\nTopics will be Tearing Off Labels and Success in School \nRegister in your student portal!
URL:https://www.crosbyscholarsrowan.org/event/7th-grade-virtual-academy-600pm/
LOCATION:On-line Academy
END:VEVENT
BEGIN:VEVENT
DTSTART;TZID=America/New_York:20201010T140000
DTEND;TZID=America/New_York:20201010T150000
DTSTAMP:20260422T215618
CREATED:20200904T162132Z
LAST-MODIFIED:20200904T162132Z
UID:10001542-1602338400-1602342000@www.crosbyscholarsrowan.org
SUMMARY:Applying for Scholarships (Junior/Senior)
DESCRIPTION:Applying for Scholarships Academy \nOctober 10th 2pm \nPlease join us for our Applying for Scholarships Academy on October 10th at 2pm. Crosby Scholars’ staff will detail current scholarships\, deadlines\, and tips and strategies on how to apply. Students will also learn how to search\, manage\, and prioritize applications. \nStudents should come prepared to take notes and ask questions. \nRegister in your student portal to access the ZOOM link!
URL:https://www.crosbyscholarsrowan.org/event/applying-for-scholarships-junior-senior/
LOCATION:On-line Academy
END:VEVENT
BEGIN:VEVENT
DTSTART;TZID=America/New_York:20201017T180000
DTEND;TZID=America/New_York:20201017T190000
DTSTAMP:20260422T215618
CREATED:20200904T162859Z
LAST-MODIFIED:20200904T162859Z
UID:10001543-1602957600-1602961200@www.crosbyscholarsrowan.org
SUMMARY:College Athletics Academy
DESCRIPTION:Crosby Scholars will host a College Athletics Academy \nSaturday\, October\, 17th at 6pm \nThis academy was designed to help students prepare for their transition to college as student-athletes. This academy will include a Q&A with \nCoach Jason Bryan\, Head Track and Field and Cross County Coach at Catawba College \nCoach Bryan will share his knowledge on several topics\, including eligibility\, recruitment\, and student success.
URL:https://www.crosbyscholarsrowan.org/event/college-athletics-academy/
LOCATION:On-line Academy
END:VEVENT
BEGIN:VEVENT
DTSTART;TZID=America/New_York:20201021T140000
DTEND;TZID=America/New_York:20201021T150000
DTSTAMP:20260422T215618
CREATED:20200909T185602Z
LAST-MODIFIED:20200909T185602Z
UID:10001545-1603288800-1603292400@www.crosbyscholarsrowan.org
SUMMARY:North Carolina A&T Information Session
DESCRIPTION:North Carolina A&T State University \nCrosby Scholars will host North Carolina A&T State University for an information session \nWednesday\, October 21st at 2 pm.  \nPlease join us to learn more about this amazing institution!
URL:https://www.crosbyscholarsrowan.org/event/north-carolina-at-information-session/
LOCATION:On-line Academy
END:VEVENT
BEGIN:VEVENT
DTSTART;TZID=America/New_York:20201024T140000
DTEND;TZID=America/New_York:20201024T150000
DTSTAMP:20260422T215618
CREATED:20200909T190052Z
LAST-MODIFIED:20200909T190052Z
UID:10001546-1603548000-1603551600@www.crosbyscholarsrowan.org
SUMMARY:Why College?
DESCRIPTION:Why College? \nCrosby Scholars will host a Why College? Academy \nSaturday\, October 24th from 2-3 pm.   \nThe student will learn the importance of college\, understand their post-secondary options\, and be introduced to many types of institutions. Participants will explore average annual earnings by education and be challenged to further develop their academic goals in preparation for college. \nRegister in student portal for ZOOM link!
URL:https://www.crosbyscholarsrowan.org/event/why-college/
LOCATION:On-line Academy
END:VEVENT
END:VCALENDAR