BEGIN:VCALENDAR
VERSION:2.0
PRODID:-//Crosby Scholars Rowan - ECPv6.15.13.1//NONSGML v1.0//EN
CALSCALE:GREGORIAN
METHOD:PUBLISH
X-ORIGINAL-URL:https://www.crosbyscholarsrowan.org
X-WR-CALDESC:Events for Crosby Scholars Rowan
REFRESH-INTERVAL;VALUE=DURATION:PT1H
X-Robots-Tag:noindex
X-PUBLISHED-TTL:PT1H
BEGIN:VTIMEZONE
TZID:America/New_York
BEGIN:DAYLIGHT
TZOFFSETFROM:-0500
TZOFFSETTO:-0400
TZNAME:EDT
DTSTART:20190310T070000
END:DAYLIGHT
BEGIN:STANDARD
TZOFFSETFROM:-0400
TZOFFSETTO:-0500
TZNAME:EST
DTSTART:20191103T060000
END:STANDARD
BEGIN:DAYLIGHT
TZOFFSETFROM:-0500
TZOFFSETTO:-0400
TZNAME:EDT
DTSTART:20200308T070000
END:DAYLIGHT
BEGIN:STANDARD
TZOFFSETFROM:-0400
TZOFFSETTO:-0500
TZNAME:EST
DTSTART:20201101T060000
END:STANDARD
BEGIN:DAYLIGHT
TZOFFSETFROM:-0500
TZOFFSETTO:-0400
TZNAME:EDT
DTSTART:20210314T070000
END:DAYLIGHT
BEGIN:STANDARD
TZOFFSETFROM:-0400
TZOFFSETTO:-0500
TZNAME:EST
DTSTART:20211107T060000
END:STANDARD
END:VTIMEZONE
BEGIN:VEVENT
DTSTART;TZID=America/New_York:20201104T120000
DTEND;TZID=America/New_York:20201104T124500
DTSTAMP:20260422T202014
CREATED:20200909T194252Z
LAST-MODIFIED:20200909T194252Z
UID:10001548-1604491200-1604493900@www.crosbyscholarsrowan.org
SUMMARY:7th Grade Virtual Academy-12:00pm
DESCRIPTION:This Academy will focus on:\n#Online Impact… learning about your digital footprint in the online world\nNoteWorthy… Tips on skills for the classroom\nLOCATION: Zoom (will receive an email with Zoom link)\nAcademy will begin at 6:00pm \nRegister in your student portal
URL:https://www.crosbyscholarsrowan.org/event/7th-grade-virtual-academy-1200pm-2/
LOCATION:On-line Academy
END:VEVENT
BEGIN:VEVENT
DTSTART;TZID=America/New_York:20201104T180000
DTEND;TZID=America/New_York:20201104T184500
DTSTAMP:20260422T202014
CREATED:20200909T190339Z
LAST-MODIFIED:20200909T190339Z
UID:10001547-1604512800-1604515500@www.crosbyscholarsrowan.org
SUMMARY:8th Grade Virtual Academy -6:00pm
DESCRIPTION:This Academy will focus on:\n\nPrepping4Opportunity… \nDiscovering your college/career pathway\nConflict Cases… \nLearning ways to address conflict with peers and adults\nLOCATION:Zoom (will receive email with Zoom link)\nAcademy will begin at 6:00pm
URL:https://www.crosbyscholarsrowan.org/event/8th-grade-virtual-academy-600pm/
LOCATION:On-line Academy
END:VEVENT
BEGIN:VEVENT
DTSTART;TZID=America/New_York:20201105T180000
DTEND;TZID=America/New_York:20201105T190000
DTSTAMP:20260422T202014
CREATED:20200909T195335Z
LAST-MODIFIED:20200909T195335Z
UID:10001549-1604599200-1604602800@www.crosbyscholarsrowan.org
SUMMARY:Study Skills Academy
DESCRIPTION:Study Skills \nCrosby Scholars will host a Study Skills Academy \n Thursday\, November 5th from 6-7pm \nThis academy is designed to help students develop the study skills needed to become successful learners. Students will be introduced to learning styles and various techniques that will be helpful to them throughout their academic years. \nRegister in your student portal
URL:https://www.crosbyscholarsrowan.org/event/study-skills-academy/
LOCATION:On-line Academy
END:VEVENT
BEGIN:VEVENT
DTSTART;TZID=America/New_York:20201107T130000
DTEND;TZID=America/New_York:20201107T141500
DTSTAMP:20260422T202014
CREATED:20201027T153813Z
LAST-MODIFIED:20201027T153813Z
UID:10001550-1604754000-1604758500@www.crosbyscholarsrowan.org
SUMMARY:Rowan-Cabarrus Community College Information Session
DESCRIPTION:Crosby Scholars will host Rowan-Cabarrus Community College \nfor an information session on \nSaturday\, November 7th from 1:00 -2:15 pm. \nStudents will learn more about majors\, programs\, student life\, and the benefits of choosing a community college. Please come prepared to ask questions and take notes.
URL:https://www.crosbyscholarsrowan.org/event/rowan-cabarrus-community-college-information-session/
LOCATION:On-line Academy
END:VEVENT
BEGIN:VEVENT
DTSTART;TZID=America/New_York:20201110T180000
DTEND;TZID=America/New_York:20201110T190000
DTSTAMP:20260422T202014
CREATED:20201027T154351Z
LAST-MODIFIED:20201027T154351Z
UID:10001551-1605031200-1605034800@www.crosbyscholarsrowan.org
SUMMARY:Pfeiffer University Information Session
DESCRIPTION:Crosby Scholars will host Pfeiffer University for an information session on \nTuesday\, November 10th at 6:00pm \nPlease join us to learn more about this amazing institution! \nSign up in your Student Portal
URL:https://www.crosbyscholarsrowan.org/event/pfeiffer-university-information-session/
LOCATION:On-line Academy
END:VEVENT
BEGIN:VEVENT
DTSTART;TZID=America/New_York:20201117T180000
DTEND;TZID=America/New_York:20201117T190000
DTSTAMP:20260422T202014
CREATED:20201027T160050Z
LAST-MODIFIED:20201027T160050Z
UID:10001552-1605636000-1605639600@www.crosbyscholarsrowan.org
SUMMARY:UNCG Information Session
DESCRIPTION:Crosby Scholars will host UNCG for an information session on \nTuesday\, November 17th at 6:00 pm. \nPlease join us to learn more about this amazing institution! \nSign up in your student portal
URL:https://www.crosbyscholarsrowan.org/event/uncg-information-session/
LOCATION:On-line Academy
END:VEVENT
END:VCALENDAR