BEGIN:VCALENDAR
VERSION:2.0
PRODID:-//Crosby Scholars Rowan - ECPv6.15.13.1//NONSGML v1.0//EN
CALSCALE:GREGORIAN
METHOD:PUBLISH
X-WR-CALNAME:Crosby Scholars Rowan
X-ORIGINAL-URL:https://www.crosbyscholarsrowan.org
X-WR-CALDESC:Events for Crosby Scholars Rowan
REFRESH-INTERVAL;VALUE=DURATION:PT1H
X-Robots-Tag:noindex
X-PUBLISHED-TTL:PT1H
BEGIN:VTIMEZONE
TZID:America/New_York
BEGIN:DAYLIGHT
TZOFFSETFROM:-0500
TZOFFSETTO:-0400
TZNAME:EDT
DTSTART:20190310T070000
END:DAYLIGHT
BEGIN:STANDARD
TZOFFSETFROM:-0400
TZOFFSETTO:-0500
TZNAME:EST
DTSTART:20191103T060000
END:STANDARD
BEGIN:DAYLIGHT
TZOFFSETFROM:-0500
TZOFFSETTO:-0400
TZNAME:EDT
DTSTART:20200308T070000
END:DAYLIGHT
BEGIN:STANDARD
TZOFFSETFROM:-0400
TZOFFSETTO:-0500
TZNAME:EST
DTSTART:20201101T060000
END:STANDARD
BEGIN:DAYLIGHT
TZOFFSETFROM:-0500
TZOFFSETTO:-0400
TZNAME:EDT
DTSTART:20210314T070000
END:DAYLIGHT
BEGIN:STANDARD
TZOFFSETFROM:-0400
TZOFFSETTO:-0500
TZNAME:EST
DTSTART:20211107T060000
END:STANDARD
END:VTIMEZONE
BEGIN:VEVENT
DTSTART;TZID=America/New_York:20201202T120000
DTEND;TZID=America/New_York:20201202T124500
DTSTAMP:20260422T184842
CREATED:20201027T162010Z
LAST-MODIFIED:20201027T162010Z
UID:10001554-1606910400-1606913100@www.crosbyscholarsrowan.org
SUMMARY:8th Grade Virtual Academy -12:00pm
DESCRIPTION:Each Crosby Scholar is required to attend one Crosby Academy per school year. \nThis Academy will focus on:\nPrepping4Opportunity… Discovering your college/career pathway\nConflict Cases… Learning ways to address conflict with peers and adults\nLOCATION:Zoom (will receive an email with Zoom link) \nRegister in Student Portal\nAcademy will begin at 6:00pm
URL:https://www.crosbyscholarsrowan.org/event/8th-grade-virtual-academy-1200pm-2/
LOCATION:On-line Academy
END:VEVENT
BEGIN:VEVENT
DTSTART;TZID=America/New_York:20201202T180000
DTEND;TZID=America/New_York:20201202T184500
DTSTAMP:20260422T184842
CREATED:20201027T161648Z
LAST-MODIFIED:20201027T161648Z
UID:10001553-1606932000-1606934700@www.crosbyscholarsrowan.org
SUMMARY:7th Grade Virtual Academy-6:00pm
DESCRIPTION:Each Crosby Scholar is required to attend one Crosby Academy per school year. \nThis Academy will focus on:\n#Online Impact… learning about your digital footprint in the online world\nNote Worthy… Tips on skills for the classroom\nLOCATION: Zoom (will receive an email with Zoom link) \nRegister in student portal\nAcademy will begin at 6:00pm\nATTENDANCE:
URL:https://www.crosbyscholarsrowan.org/event/7th-grade-virtual-academy-600pm-2/
LOCATION:NC
END:VEVENT
BEGIN:VEVENT
DTSTART;TZID=America/New_York:20201212T150000
DTEND;TZID=America/New_York:20201212T190000
DTSTAMP:20260422T184842
CREATED:20201111T181946Z
LAST-MODIFIED:20201111T181946Z
UID:10001556-1607785200-1607799600@www.crosbyscholarsrowan.org
SUMMARY:Volunteer Opportunity: Sounds of Christmas
DESCRIPTION:GET SOME COMMUNITY SERVICE HOURS! \nIf interested contact: Joyce at joycecurl2@yahoo.com  \, cell 704-433-4251 \nIt is that time again for the request of your help to contribute your time to help with the Can Collection for the Sounds of Christmas fondly known as the Living Christmas Tree of First Baptist Church but very different this year. \nAs you have probably heard FBC is “taking” the message to the people.  We will be in the parking lot of our former mall proclaiming the real meaning of Christmas.  This move offers everyone a chance to reach folks that would have never darkened the church doors. \nSaying that it would be greatly appreciated if you could help out with the can food collection for Rowan Helping Ministries\, let me share. \nThere will be 3 services\, one on Saturday\, December 12 at 4 pm and two on Sunday\, December 13 at 4 pm and 7 pm.   You would need to be at the RHM trailer which will be parked near the fountain at the mall 1 hour before.  We will be collecting the cans in a drive-thru experience so “your safety” will be a major concern.  We are still tweaking the plan\, as on any mission trip\, we are going to be fluid and go with what is best for the mission at hand so your duties may vary.  There are needs for receivers\, assemblers\, transporters\, packers\, and trailer captain.  \nReceivers will retrieve the cans from the vehicles as they drive by.  You may be required to wear a reflective vest.  You will take the food to the assembly tables.  \n Assemblers will put multiple cans in larger tote bags.  \nTransporters will be carrying the tote bags from the assembly table to the RHM trailer\, taking the items out\, setting them on the table and returning the empty tote bag to the assembling tables to be refilled.   \nPackers will be assembling the cans in large banana boxes to be stacked inside the trailer.   \nTrailer Captain will oversee the packing of the cans in the banana boxes (more details at site) and be able with help\, to lift the boxes to stack them within the trailer. \nLast year the trailer was over ¾ full with boxes stacked as high as they could go. \nIn most all the areas listed above you will have adults working on this project in various areas.  Joyce Curl is the team leader and will assist you in any way possible and make any changes necessary.  \nFOOD!!!  yes there will be food!  Meals will be served for supper both Saturday and Sunday.  When you sign up\, Joyce will be in contact via phone\, text or email to confirm you plan to eat.  She has to make your reservations.   The meal reservation must be in the music office by Sunday\, Nov. 22. \nPlease consider and contact Joyce at joycecurl2@yahoo.com  \, cell 704-433-4251 \n leave a voice mail or text stating what times you can help. \nIf you have any need for credit for community volunteer work\, please bring your paper and Joyce will sign off for your time donated to this very worthy cause.
URL:https://www.crosbyscholarsrowan.org/event/volunteer-opportunity-sounds-of-christmas/
LOCATION:NC
END:VEVENT
END:VCALENDAR