BEGIN:VCALENDAR
VERSION:2.0
PRODID:-//Crosby Scholars Rowan - ECPv6.15.13.1//NONSGML v1.0//EN
CALSCALE:GREGORIAN
METHOD:PUBLISH
X-ORIGINAL-URL:https://www.crosbyscholarsrowan.org
X-WR-CALDESC:Events for Crosby Scholars Rowan
REFRESH-INTERVAL;VALUE=DURATION:PT1H
X-Robots-Tag:noindex
X-PUBLISHED-TTL:PT1H
BEGIN:VTIMEZONE
TZID:America/New_York
BEGIN:DAYLIGHT
TZOFFSETFROM:-0500
TZOFFSETTO:-0400
TZNAME:EDT
DTSTART:20210314T070000
END:DAYLIGHT
BEGIN:STANDARD
TZOFFSETFROM:-0400
TZOFFSETTO:-0500
TZNAME:EST
DTSTART:20211107T060000
END:STANDARD
BEGIN:DAYLIGHT
TZOFFSETFROM:-0500
TZOFFSETTO:-0400
TZNAME:EDT
DTSTART:20220313T070000
END:DAYLIGHT
BEGIN:STANDARD
TZOFFSETFROM:-0400
TZOFFSETTO:-0500
TZNAME:EST
DTSTART:20221106T060000
END:STANDARD
BEGIN:DAYLIGHT
TZOFFSETFROM:-0500
TZOFFSETTO:-0400
TZNAME:EDT
DTSTART:20230312T070000
END:DAYLIGHT
BEGIN:STANDARD
TZOFFSETFROM:-0400
TZOFFSETTO:-0500
TZNAME:EST
DTSTART:20231105T060000
END:STANDARD
END:VTIMEZONE
BEGIN:VEVENT
DTSTART;TZID=America/New_York:20220120T180000
DTEND;TZID=America/New_York:20220120T190000
DTSTAMP:20260421T213654
CREATED:20220302T202408Z
LAST-MODIFIED:20220302T202408Z
UID:10001594-1642701600-1642705200@www.crosbyscholarsrowan.org
SUMMARY:ACT Test Taking Strategies
DESCRIPTION:ACT Test Taking Strategies Academy \nThursday\, Jan. 20th \n6-7pm \nCrosby Scholars will host an ACT Test Taking Strategies academy on Thursday\, Jan. 20th from 6-7pm. Students will be introduced to the components of each sub-test and learn effective tips and strategies. Students are encouraged to take notes and ask questions during this academy. \nPlease find the Zoom link in portal.
URL:https://www.crosbyscholarsrowan.org/event/act-test-taking-strategies/
LOCATION:NC
END:VEVENT
BEGIN:VEVENT
DTSTART;TZID=America/New_York:20220127T180000
DTEND;TZID=America/New_York:20220127T190000
DTSTAMP:20260421T213654
CREATED:20220302T202612Z
LAST-MODIFIED:20220302T202612Z
UID:10001595-1643306400-1643310000@www.crosbyscholarsrowan.org
SUMMARY:Adulting 101 - Junior/Senior Academy
DESCRIPTION:Adulting 101 \nThursday\, January 27th \n6pm \nCrosby Scholars will host an Adulting 101 Academy on Thursday\, January 27th at 6pm for juniors and seniors. Students should be prepared for an interactive academy where our presenters discuss professionalism\, self-advocacy\, accessing resources\, communication\, and much more! \nPlease find the Zoom link and password in your Portal.
URL:https://www.crosbyscholarsrowan.org/event/adulting-101-junior-senior-academy/
LOCATION:NC
END:VEVENT
BEGIN:VEVENT
DTSTART;TZID=America/New_York:20220129T090000
DTEND;TZID=America/New_York:20220129T123000
DTSTAMP:20260421T213654
CREATED:20220302T202802Z
LAST-MODIFIED:20220302T202802Z
UID:10001596-1643446800-1643459400@www.crosbyscholarsrowan.org
SUMMARY:7th/8th Grade Virtual Academy
DESCRIPTION:Each Crosby Scholar is required to attend one Crosby Academy per school year. \nEach student will participate in 2 workshops that focus on personal and academic skills to increase potential for success in both high school and college.\nLOCATION: \nZoom: Please check your email for the Zoom link a day before the Academy \n7th Grade: (9:00Am – 10:30AM) \n8th Grade: (11:00Am – 12:30pm)
URL:https://www.crosbyscholarsrowan.org/event/7th-8th-grade-virtual-academy/
LOCATION:NC
END:VEVENT
END:VCALENDAR