BEGIN:VCALENDAR
VERSION:2.0
PRODID:-//Crosby Scholars Rowan - ECPv6.15.13.1//NONSGML v1.0//EN
CALSCALE:GREGORIAN
METHOD:PUBLISH
X-ORIGINAL-URL:https://www.crosbyscholarsrowan.org
X-WR-CALDESC:Events for Crosby Scholars Rowan
REFRESH-INTERVAL;VALUE=DURATION:PT1H
X-Robots-Tag:noindex
X-PUBLISHED-TTL:PT1H
BEGIN:VTIMEZONE
TZID:America/New_York
BEGIN:DAYLIGHT
TZOFFSETFROM:-0500
TZOFFSETTO:-0400
TZNAME:EDT
DTSTART:20210314T070000
END:DAYLIGHT
BEGIN:STANDARD
TZOFFSETFROM:-0400
TZOFFSETTO:-0500
TZNAME:EST
DTSTART:20211107T060000
END:STANDARD
BEGIN:DAYLIGHT
TZOFFSETFROM:-0500
TZOFFSETTO:-0400
TZNAME:EDT
DTSTART:20220313T070000
END:DAYLIGHT
BEGIN:STANDARD
TZOFFSETFROM:-0400
TZOFFSETTO:-0500
TZNAME:EST
DTSTART:20221106T060000
END:STANDARD
BEGIN:DAYLIGHT
TZOFFSETFROM:-0500
TZOFFSETTO:-0400
TZNAME:EDT
DTSTART:20230312T070000
END:DAYLIGHT
BEGIN:STANDARD
TZOFFSETFROM:-0400
TZOFFSETTO:-0500
TZNAME:EST
DTSTART:20231105T060000
END:STANDARD
END:VTIMEZONE
BEGIN:VEVENT
DTSTART;TZID=America/New_York:20220305T100000
DTEND;TZID=America/New_York:20220305T113000
DTSTAMP:20260421T180013
CREATED:20220302T203929Z
LAST-MODIFIED:20220302T203929Z
UID:10001603-1646474400-1646479800@www.crosbyscholarsrowan.org
SUMMARY:6th Grade Virtual Academy
DESCRIPTION:6th Grade LAST Virtual Academy  on 3/5/22\nEach Crosby Scholar is required to attend one Crosby Academy per school year.\nThis Academy focuses on:\nLearning Styles… discovering and using how you learn\nNew Mindset… discovering the power of your words \nLOCATION: Academy will held on Zoom from 10am-11:30am  \nThe Zoom link will be emailed to students & parents on Friday before the Academy.\nPlease DO NOT FORWARD the link to other students.  \nYou must stay for the entire Academy and submit an attendance sheet in order to receive credit for this program requirement. The event will conclude by 11:30 \nIf you have any questions\, please contact Michelle Strong at\nmstrong@crosbyscholarsrowan.org
URL:https://www.crosbyscholarsrowan.org/event/6th-grade-virtual-academy-2/
LOCATION:NC
END:VEVENT
BEGIN:VEVENT
DTSTART;TZID=America/New_York:20220314T083000
DTEND;TZID=America/New_York:20220314T173000
DTSTAMP:20260421T180013
CREATED:20220302T204049Z
LAST-MODIFIED:20220302T204338Z
UID:10001604-1647246600-1647279000@www.crosbyscholarsrowan.org
SUMMARY:Spring Break College Tour (UNCG &NCAT)
DESCRIPTION:Spring Break College Tour – UNCG & NCAT \nA campus visit is your opportunity to get a firsthand view of a college. During Spring Break (03/14) the Crosby Scholars program will offer a FREE day trip for interested students to visit UNCG & NCAT in Greensboro\, NC. During these tours\, students will have the opportunity to experience both campuses\, attend admission presentations\, and interact with current Crosby Alumni. Space is limited\, so register as soon as possible! \nTo secure a spot on the tour: \n\nFirst\, you must register here in your Crosby Scholars portal.\nNext\, you must submit a signed Parent Permission Form to your Crosby representative\, the Crosby Scholars office (by fax\, mail\, or drop-off) or take a picture and email to ebrooks@crosbyscholarsrowan.org) by Thursday\, March 10th. The parent permission form is attached to this event and will also be emailed to students once they register. Failure to submit a completed permission form by the deadline will result in forfeiting your spot on the tour to someone on the waiting list.\n\nMonday\, March 14th – UNCG & NCAT \nThe bus will depart on Monday\, March 14th from the parking lot of Extra Space Storage (725 Jake Alexander Blvd) at 8:30am and return by 5:30pm. This event is free and lunch is included. You can bring your own snacks and spending money\, if you want! \nOnly 40 spots are available for this tour date. Spots are available first-come first-served based on online registration and permission forms received in advance. A waiting list will be created if the tour fills up. If a spot becomes available\, students will be contacted in the order they registered. If you register for this event and find out that you are unable to attend\, please make sure to cancel your registration in the portal so that another student can have your spot. Thank you! \n*Students are required to follow the UNC System’s Covid-19 Policy: Face coverings are required in all indoor campus locations for students\, faculty\, staff and visitors\, regardless of vaccination status.
URL:https://www.crosbyscholarsrowan.org/event/spring-break-college-tour-uncg-ncat/
LOCATION:NC
END:VEVENT
BEGIN:VEVENT
DTSTART;TZID=America/New_York:20220329T180000
DTEND;TZID=America/New_York:20220329T190000
DTSTAMP:20260421T180013
CREATED:20220302T204519Z
LAST-MODIFIED:20220302T204519Z
UID:10001605-1648576800-1648580400@www.crosbyscholarsrowan.org
SUMMARY:Understanding Financial Aid Award Letters
DESCRIPTION:Crosby Scholars will host a VIRTUAL “Understanding Financial Aid Award Letter” webinar academy on Tuesday\, March 29th at 6pm. This webinar will cover Financial Aid offer terms\, how to accept aid\, and address any other questions or concerns you may have about the process. Parents are welcome to participate. \nPlease find the Zoom link in your portal.
URL:https://www.crosbyscholarsrowan.org/event/understanding-financial-aid-award-letters/
LOCATION:NC
END:VEVENT
BEGIN:VEVENT
DTSTART;TZID=America/New_York:20220330T180000
DTEND;TZID=America/New_York:20220330T200000
DTSTAMP:20260421T180013
CREATED:20220302T204649Z
LAST-MODIFIED:20220302T204649Z
UID:10001606-1648663200-1648670400@www.crosbyscholarsrowan.org
SUMMARY:Mandatory Rising Senior Meeting - 1
DESCRIPTION:MANDATORY RISING SENIOR MEETING – 1\nPLEASE BRING YOUR RSS DEVICE!!! \nCrosby Scholars will host an in-person Mandatory Rising Senior Meeting on Wednesday\, March 30th from 6-8pm at the Wallace Educational Forum (500 N. Main St. Salsibury\, NC 28144). All Juniors are required to attend one Mandatory Rising Senior Meeting. Food will be provided! \nDuring this meeting\, students will become familiar with our Senior Program requirements\, learn how to maximize their summer\, and be introduced to our new College & Career Readiness platform\, Naviance. Come out and learn how Crosby Scholars will help guide you through the college admissions and FAFSA processes\, while supporting you in making your COLLEGE DECISION! \nWe ask that scholars arrive on time and stay for the entire meeting. Attendance credit is awarded to scholars when they complete the MRSM survey at the end of the meeting. This is a program requirement. Juniors who do not meet this requirement will be dismissed and will not be eligible to participate in the Program during their senior year.
URL:https://www.crosbyscholarsrowan.org/event/mandatory-rising-senior-meeting-1-2/
LOCATION:NC
END:VEVENT
BEGIN:VEVENT
DTSTART;TZID=America/New_York:20220331T180000
DTEND;TZID=America/New_York:20220331T200000
DTSTAMP:20260421T180013
CREATED:20220302T204734Z
LAST-MODIFIED:20220302T204734Z
UID:10001607-1648749600-1648756800@www.crosbyscholarsrowan.org
SUMMARY:Mandatory Rising Senior Meeting - 2
DESCRIPTION:MANDATORY RISING SENIOR MEETING – 2\nPLEASE BRING YOUR RSS DEVICE!!! \nCrosby Scholars will host an in-person Mandatory Rising Senior Meeting on Thursday\, March 31st from 6-8pm at the Wallace Educational Forum (500 N. Main St. Salsibury\, NC 28144). All Juniors are required to attend one Mandatory Rising Senior Meeting. Food will be provided! \nDuring this meeting\, students will become familiar with our Senior Program requirements\, learn how to maximize their summer\, and be introduced to our new College & Career Readiness platform\, Naviance. Come out and learn how Crosby Scholars will help guide you through the college admissions and FAFSA processes\, while supporting you in making your COLLEGE DECISION! \nWe ask that scholars arrive on time and stay for the entire meeting. Attendance credit is awarded to scholars when they complete the MRSM survey at the end of the meeting. This is a program requirement. Juniors who do not meet this requirement will be dismissed and will not be eligible to participate in the Program during their senior year.
URL:https://www.crosbyscholarsrowan.org/event/mandatory-rising-senior-meeting-2/
LOCATION:NC
END:VEVENT
END:VCALENDAR