BEGIN:VCALENDAR
VERSION:2.0
PRODID:-//Crosby Scholars Rowan - ECPv6.15.13.1//NONSGML v1.0//EN
CALSCALE:GREGORIAN
METHOD:PUBLISH
X-WR-CALNAME:Crosby Scholars Rowan
X-ORIGINAL-URL:https://www.crosbyscholarsrowan.org
X-WR-CALDESC:Events for Crosby Scholars Rowan
REFRESH-INTERVAL;VALUE=DURATION:PT1H
X-Robots-Tag:noindex
X-PUBLISHED-TTL:PT1H
BEGIN:VTIMEZONE
TZID:America/New_York
BEGIN:DAYLIGHT
TZOFFSETFROM:-0500
TZOFFSETTO:-0400
TZNAME:EDT
DTSTART:20210314T070000
END:DAYLIGHT
BEGIN:STANDARD
TZOFFSETFROM:-0400
TZOFFSETTO:-0500
TZNAME:EST
DTSTART:20211107T060000
END:STANDARD
BEGIN:DAYLIGHT
TZOFFSETFROM:-0500
TZOFFSETTO:-0400
TZNAME:EDT
DTSTART:20220313T070000
END:DAYLIGHT
BEGIN:STANDARD
TZOFFSETFROM:-0400
TZOFFSETTO:-0500
TZNAME:EST
DTSTART:20221106T060000
END:STANDARD
BEGIN:DAYLIGHT
TZOFFSETFROM:-0500
TZOFFSETTO:-0400
TZNAME:EDT
DTSTART:20230312T070000
END:DAYLIGHT
BEGIN:STANDARD
TZOFFSETFROM:-0400
TZOFFSETTO:-0500
TZNAME:EST
DTSTART:20231105T060000
END:STANDARD
END:VTIMEZONE
BEGIN:VEVENT
DTSTART;TZID=America/New_York:20220412T180000
DTEND;TZID=America/New_York:20220412T200000
DTSTAMP:20260421T161744
CREATED:20220302T204940Z
LAST-MODIFIED:20220302T204940Z
UID:10001608-1649786400-1649793600@www.crosbyscholarsrowan.org
SUMMARY:Mandatory Rising Senior Meeting - 3
DESCRIPTION:MANDATORY RISING SENIOR MEETING – 3\nPLEASE BRING YOUR RSS DEVICE!!! \nCrosby Scholars will host an in-person Mandatory Rising Senior Meeting on Tuesday\, April 12th from 6-8pm at the Wallace Educational Forum (500 N. Main St. Salisbury\, NC 28144). All Juniors are required to attend one Mandatory Rising Senior Meeting. Food will be provided! \nDuring this meeting\, students will become familiar with our Senior Program requirements\, learn how to maximize their summer\, and be introduced to our new College & Career Readiness platform\, Naviance. Come out and learn how Crosby Scholars will help guide you through the college admissions and FAFSA processes\, while supporting you in making your COLLEGE DECISION! \nWe ask that scholars arrive on time and stay for the entire meeting. Attendance credit is awarded to scholars when they complete the MRSM survey at the end of the meeting. This is a program requirement. Juniors who do not meet this requirement will be dismissed and will not be eligible to participate in the Program during their senior year.
URL:https://www.crosbyscholarsrowan.org/event/mandatory-rising-senior-meeting-3/
LOCATION:NC
END:VEVENT
END:VCALENDAR