BEGIN:VCALENDAR
VERSION:2.0
PRODID:-//Crosby Scholars Rowan - ECPv6.15.13.1//NONSGML v1.0//EN
CALSCALE:GREGORIAN
METHOD:PUBLISH
X-WR-CALNAME:Crosby Scholars Rowan
X-ORIGINAL-URL:https://www.crosbyscholarsrowan.org
X-WR-CALDESC:Events for Crosby Scholars Rowan
REFRESH-INTERVAL;VALUE=DURATION:PT1H
X-Robots-Tag:noindex
X-PUBLISHED-TTL:PT1H
BEGIN:VTIMEZONE
TZID:America/New_York
BEGIN:DAYLIGHT
TZOFFSETFROM:-0500
TZOFFSETTO:-0400
TZNAME:EDT
DTSTART:20220313T070000
END:DAYLIGHT
BEGIN:STANDARD
TZOFFSETFROM:-0400
TZOFFSETTO:-0500
TZNAME:EST
DTSTART:20221106T060000
END:STANDARD
BEGIN:DAYLIGHT
TZOFFSETFROM:-0500
TZOFFSETTO:-0400
TZNAME:EDT
DTSTART:20230312T070000
END:DAYLIGHT
BEGIN:STANDARD
TZOFFSETFROM:-0400
TZOFFSETTO:-0500
TZNAME:EST
DTSTART:20231105T060000
END:STANDARD
BEGIN:DAYLIGHT
TZOFFSETFROM:-0500
TZOFFSETTO:-0400
TZNAME:EDT
DTSTART:20240310T070000
END:DAYLIGHT
BEGIN:STANDARD
TZOFFSETFROM:-0400
TZOFFSETTO:-0500
TZNAME:EST
DTSTART:20241103T060000
END:STANDARD
END:VTIMEZONE
BEGIN:VEVENT
DTSTART;TZID=America/New_York:20231202T090000
DTEND;TZID=America/New_York:20231202T120000
DTSTAMP:20260421T172202
CREATED:20230719T151429Z
LAST-MODIFIED:20230809T195907Z
UID:10001615-1701507600-1701518400@www.crosbyscholarsrowan.org
SUMMARY:Academy #3
DESCRIPTION:Crosby Scholars will host three Saturday in-person Academies at RCCC this fall. Academy topics will be grade level specific for college and career readiness. Students must register for the academy they choose to attend as space is limited. \nSelect your grade level to register below: \nMiddle School Academy Registration \nHigh School Academy Registration \nCheck-in begins at 9 am. Students must stay for the entire Academy and submit an attendance sheet in order to receive credit for this program requirement. The event will conclude at 12:00 pm. \nWhere? RCCC: 1333 Jake Alexander Blvd S\, Building N106\, Salisbury\, NC 28146\nWhen? December 2nd from 9am-12pm
URL:https://www.crosbyscholarsrowan.org/event/academy-3/
LOCATION:Rowan-Cabarrus Community College\, 1333 Jake Alexander Blvd S\, Salisbury\, NC\, 28146\, United States
END:VEVENT
BEGIN:VEVENT
DTSTART;TZID=America/New_York:20231216T140000
DTEND;TZID=America/New_York:20231216T160000
DTSTAMP:20260421T172202
CREATED:20231204T201206Z
LAST-MODIFIED:20231204T201728Z
UID:10001621-1702735200-1702742400@www.crosbyscholarsrowan.org
SUMMARY:Crosby Christmas Caroling - HS Program
DESCRIPTION:Join us on December 16th from 2:00-4:00 at Trinity Oaks Retirement Center. We will be Christmas Caroling and playing games with the residents during this community service opportunity for High School Crosby Scholars. Students must register to attend as space is limited. \nRegister to volunteer below: \nCrosby Christmas Caroling Registration Form \nWhere? Trinity Oaks: 728 Klumac Road\, Salisbury\nWhen? December 16th from 2pm-4pm
URL:https://www.crosbyscholarsrowan.org/event/academy-3-copy/
LOCATION:Trinity Oaks\, 728 Klumac Road\, Salisbury\, 28144
END:VEVENT
END:VCALENDAR