BEGIN:VCALENDAR
VERSION:2.0
PRODID:-//Crosby Scholars Rowan - ECPv6.15.13.1//NONSGML v1.0//EN
CALSCALE:GREGORIAN
METHOD:PUBLISH
X-ORIGINAL-URL:https://www.crosbyscholarsrowan.org
X-WR-CALDESC:Events for Crosby Scholars Rowan
REFRESH-INTERVAL;VALUE=DURATION:PT1H
X-Robots-Tag:noindex
X-PUBLISHED-TTL:PT1H
BEGIN:VTIMEZONE
TZID:America/New_York
BEGIN:DAYLIGHT
TZOFFSETFROM:-0500
TZOFFSETTO:-0400
TZNAME:EDT
DTSTART:20230312T070000
END:DAYLIGHT
BEGIN:STANDARD
TZOFFSETFROM:-0400
TZOFFSETTO:-0500
TZNAME:EST
DTSTART:20231105T060000
END:STANDARD
BEGIN:DAYLIGHT
TZOFFSETFROM:-0500
TZOFFSETTO:-0400
TZNAME:EDT
DTSTART:20240310T070000
END:DAYLIGHT
BEGIN:STANDARD
TZOFFSETFROM:-0400
TZOFFSETTO:-0500
TZNAME:EST
DTSTART:20241103T060000
END:STANDARD
BEGIN:DAYLIGHT
TZOFFSETFROM:-0500
TZOFFSETTO:-0400
TZNAME:EDT
DTSTART:20250309T070000
END:DAYLIGHT
BEGIN:STANDARD
TZOFFSETFROM:-0400
TZOFFSETTO:-0500
TZNAME:EST
DTSTART:20251102T060000
END:STANDARD
END:VTIMEZONE
BEGIN:VEVENT
DTSTART;TZID=America/New_York:20240411T180000
DTEND;TZID=America/New_York:20240411T200000
DTSTAMP:20260421T204819
CREATED:20240410T170451Z
LAST-MODIFIED:20240410T170643Z
UID:10001623-1712858400-1712865600@www.crosbyscholarsrowan.org
SUMMARY:Rising Senior Orientation #1
DESCRIPTION:ALL rising Seniors must attend the Class of 2025 Senior Orientation! The in-person sessions will be hosted at Wallace Educational Forum from 6 – 8pm. Seniors who attend will receive their Senior Planner\, Class of 2025 t-shirt\, and pizza. Choose the date that works best for you and register to attend ONE session: \nSession #1 – Thursday\, April 11th from 6 – 8pm \nSession #2 – Tuesday\, April 23rd from 6 – 8pm
URL:https://www.crosbyscholarsrowan.org/event/rising-senior-orientation/
LOCATION:Wallace Educational Forum\, 500 N Main Street\, Salisbury\, NC\, 28144\, United States
ORGANIZER;CN="Jessica Vess":MAILTO:jvess@crosbyscholarsrowan.org
END:VEVENT
BEGIN:VEVENT
DTSTART;TZID=America/New_York:20240423T180000
DTEND;TZID=America/New_York:20240423T200000
DTSTAMP:20260421T204819
CREATED:20240410T170607Z
LAST-MODIFIED:20240410T170607Z
UID:10001624-1713895200-1713902400@www.crosbyscholarsrowan.org
SUMMARY:Rising Senior Orientation #2
DESCRIPTION:ALL rising Seniors must attend the Class of 2025 Senior Orientation! The in-person sessions will be hosted at Wallace Educational Forum from 6 – 8pm. Seniors who attend will receive their Senior Planner\, Class of 2025 t-shirt\, and pizza. Choose the date that works best for you and register to attend ONE session: \nSession #1 – Thursday\, April 11th from 6 – 8pm \nSession #2 – Tuesday\, April 23rd from 6 – 8pm
URL:https://www.crosbyscholarsrowan.org/event/rising-senior-orientation-2/
LOCATION:Wallace Educational Forum\, 500 N Main Street\, Salisbury\, NC\, 28144\, United States
ORGANIZER;CN="Jessica Vess":MAILTO:jvess@crosbyscholarsrowan.org
END:VEVENT
END:VCALENDAR