BEGIN:VCALENDAR
VERSION:2.0
PRODID:-//Crosby Scholars Rowan - ECPv6.15.13.1//NONSGML v1.0//EN
CALSCALE:GREGORIAN
METHOD:PUBLISH
X-ORIGINAL-URL:https://www.crosbyscholarsrowan.org
X-WR-CALDESC:Events for Crosby Scholars Rowan
REFRESH-INTERVAL;VALUE=DURATION:PT1H
X-Robots-Tag:noindex
X-PUBLISHED-TTL:PT1H
BEGIN:VTIMEZONE
TZID:America/New_York
BEGIN:DAYLIGHT
TZOFFSETFROM:-0500
TZOFFSETTO:-0400
TZNAME:EDT
DTSTART:20230312T070000
END:DAYLIGHT
BEGIN:STANDARD
TZOFFSETFROM:-0400
TZOFFSETTO:-0500
TZNAME:EST
DTSTART:20231105T060000
END:STANDARD
BEGIN:DAYLIGHT
TZOFFSETFROM:-0500
TZOFFSETTO:-0400
TZNAME:EDT
DTSTART:20240310T070000
END:DAYLIGHT
BEGIN:STANDARD
TZOFFSETFROM:-0400
TZOFFSETTO:-0500
TZNAME:EST
DTSTART:20241103T060000
END:STANDARD
BEGIN:DAYLIGHT
TZOFFSETFROM:-0500
TZOFFSETTO:-0400
TZNAME:EDT
DTSTART:20250309T070000
END:DAYLIGHT
BEGIN:STANDARD
TZOFFSETFROM:-0400
TZOFFSETTO:-0500
TZNAME:EST
DTSTART:20251102T060000
END:STANDARD
END:VTIMEZONE
BEGIN:VEVENT
DTSTART;TZID=America/New_York:20241207T090000
DTEND;TZID=America/New_York:20241207T120000
DTSTAMP:20260420T142837
CREATED:20240715T173111Z
LAST-MODIFIED:20240930T143135Z
UID:10001632-1733562000-1733572800@www.crosbyscholarsrowan.org
SUMMARY:Academy #3
DESCRIPTION:Crosby Scholars will host three Saturday in-person Academies at RCCC this fall. Academy topics will be grade level specific for college and career readiness. Students must register for the academy they choose to attend as space is limited. \nSelect your grade level to register below: \nMiddle School Academy Registration \nHigh School Academy Registration \nCheck-in begins at 9 am. Students must stay for the entire Academy and submit an attendance sheet in order to receive credit for this program requirement. The event will conclude at 12:00 pm. \nWhere? RCCC: 1333 Jake Alexander Blvd S\, Building N106\, Salisbury\, NC 28146\nWhen? December 7th from 9am-12pm
URL:https://www.crosbyscholarsrowan.org/event/academy3/
LOCATION:Rowan-Cabarrus Community College\, 1333 Jake Alexander Blvd S\, Salisbury\, NC\, 28146\, United States
ORGANIZER;CN="Jessica Vess":MAILTO:jvess@crosbyscholarsrowan.org
END:VEVENT
END:VCALENDAR