BEGIN:VCALENDAR
VERSION:2.0
PRODID:-//Crosby Scholars Rowan - ECPv6.15.13.1//NONSGML v1.0//EN
CALSCALE:GREGORIAN
METHOD:PUBLISH
X-WR-CALNAME:Crosby Scholars Rowan
X-ORIGINAL-URL:https://www.crosbyscholarsrowan.org
X-WR-CALDESC:Events for Crosby Scholars Rowan
REFRESH-INTERVAL;VALUE=DURATION:PT1H
X-Robots-Tag:noindex
X-PUBLISHED-TTL:PT1H
BEGIN:VTIMEZONE
TZID:America/New_York
BEGIN:DAYLIGHT
TZOFFSETFROM:-0500
TZOFFSETTO:-0400
TZNAME:EDT
DTSTART:20180311T070000
END:DAYLIGHT
BEGIN:STANDARD
TZOFFSETFROM:-0400
TZOFFSETTO:-0500
TZNAME:EST
DTSTART:20181104T060000
END:STANDARD
BEGIN:DAYLIGHT
TZOFFSETFROM:-0500
TZOFFSETTO:-0400
TZNAME:EDT
DTSTART:20190310T070000
END:DAYLIGHT
BEGIN:STANDARD
TZOFFSETFROM:-0400
TZOFFSETTO:-0500
TZNAME:EST
DTSTART:20191103T060000
END:STANDARD
BEGIN:DAYLIGHT
TZOFFSETFROM:-0500
TZOFFSETTO:-0400
TZNAME:EDT
DTSTART:20200308T070000
END:DAYLIGHT
BEGIN:STANDARD
TZOFFSETFROM:-0400
TZOFFSETTO:-0500
TZNAME:EST
DTSTART:20201101T060000
END:STANDARD
END:VTIMEZONE
BEGIN:VEVENT
DTSTART;TZID=America/New_York:20191029T190000
DTEND;TZID=America/New_York:20191029T210000
DTSTAMP:20260421T062931
CREATED:20191008T144917Z
LAST-MODIFIED:20191008T145252Z
UID:10001498-1572375600-1572382800@www.crosbyscholarsrowan.org
SUMMARY:Charlotte Performing and Visual Arts College Fair
DESCRIPTION:College Performing and Visual Arts College Fair  \nFree and open to the public- College Performing and Visual Arts College Fair – in Charlotte\, NC October 29th from 7-9pm\nSeveral colleges/universities in one location! Bring your form and get 4 signatures for credit. \nSeveral colleges/universities in one location- attend and bring your college fair form and get 4 signatures and submit for College Fair credit! \nWednesday\, October 29th\, from 7-9pm \nThe Park Expo & Conference Center \n800 Briar Creek Rd. \nCharlotte\, NC 28205 \nRegister Here: https://www.nacacfairs.org/attend/pva/charlotte/
URL:https://www.crosbyscholarsrowan.org/event/charlotte-performing-and-visual-arts-college-fair/
LOCATION:The Park Expo & Conference Center\, 800 Briar Creek Road\, Charlotte\, 28205\, United States
END:VEVENT
END:VCALENDAR